BEGIN:VCALENDAR
VERSION:2.0
PRODID:-//ChamberMaster//Event Calendar 2.0//EN
METHOD:PUBLISH
X-PUBLISHED-TTL:P3D
REFRESH-INTERVAL:P3D
CALSCALE:GREGORIAN
BEGIN:VEVENT
DTSTART:20240125T140000Z
DTEND:20240125T150000Z
X-MICROSOFT-CDO-ALLDAYEVENT:FALSE
SUMMARY:Young Professionals Coffee
DESCRIPTION:Come network with other Young Professionals at our YP Coffee at Muletown Coffee Roasters in downtown Columbia!\n\n\n\nOur group will have tables reserved in the back area of the cafe. All attendees will be offered 25% off of their coffee drinks - so be sure to mention that you are attending the Young Professionals Coffee. \n\n\n\n.........\n\nAbout YP Maury County\n\nThe Maury Alliance YP group creates a platform for professionals under 40 to build relationships\, develop professionally\, and contribute to the economic development and high-quality living of Maury County. We are dedicated to providing a springboard for ideas\, network of resources and a unified voice from our young professional community through innovative programs\, projects\, and social events. Our goal is to become the premier organization for the up and comers of our community. \n\n.........\n\nFAQ\n\nI am not a member of Maury Alliance\, can I still come?\n\nYes! We want all Young Professionals in Maury County to get involved.\n\n\n\nAm I a Young Professional?\n\nA Young Professional is anyone working or living in Maury County. From Nurses to Teachers and Manufacturers to Engineers\, anyone from 21 to 40 is considered a Young Professional!\n\n\n\nI won't know anyone there...\n\nThat's okay\, many people will not know anyone. Look for the registration table and we will introduce you to others and get you plugged in.
X-ALT-DESC;FMTTYPE=text/html:<span style="font-size:20px\;"><span style="font-family:arial\;"><span style="box-sizing: border-box\;">Come network with other Young Professionals at our YP Coffee at Muletown Coffee Roasters in downtown Columbia!<br />\n<br />\nOur group will have tables reserved in the back area of the cafe.&nbsp\;All attendees will be offered 25% off of their coffee drinks - so be sure to mention that you are attending the Young Professionals Coffee.&nbsp\;</span></span></span><br />\n<br style="box-sizing: border-box\; color: rgb(99\, 99\, 99)\; font-family: Arial\, Helvetica\, sans-serif\; font-size: 14px\;" />\n<strong><span style="font-size:20px\;"><span style="font-family:arial\;"><span style="box-sizing: border-box\;">.........</span><br style="box-sizing: border-box\; color: rgb(99\, 99\, 99)\; font-family: Arial\, Helvetica\, sans-serif\; font-size: 14px\;" />\n<span style="box-sizing: border-box\;">About YP Maury County</span></span></span></strong><br style="box-sizing: border-box\; color: rgb(99\, 99\, 99)\; font-family: Arial\, Helvetica\, sans-serif\; font-size: 14px\;" />\n<span style="font-size:20px\;"><span style="font-family:arial\;"><span style="box-sizing: border-box\;">The Maury Alliance YP group creates a platform for professionals under 40 to build relationships\, develop professionally\, and contribute to the economic development and high-quality living of Maury County. We are dedicated to providing a springboard for ideas\, network of resources and a unified voice from our young professional community through innovative programs\, projects\, and social events. Our goal is to become the premier organization for the up and comers of our community.&nbsp\;</span></span></span><br style="box-sizing: border-box\; color: rgb(99\, 99\, 99)\; font-family: Arial\, Helvetica\, sans-serif\; font-size: 14px\;" />\n<strong><span style="font-size:20px\;"><span style="font-family:arial\;"><span style="box-sizing: border-box\;">.........</span><br style="box-sizing: border-box\; color: rgb(99\, 99\, 99)\; font-family: Arial\, Helvetica\, sans-serif\; font-size: 14px\;" />\n<span style="box-sizing: border-box\;">FAQ</span></span></span></strong><br style="box-sizing: border-box\; color: rgb(99\, 99\, 99)\; font-family: Arial\, Helvetica\, sans-serif\; font-size: 14px\;" />\n<span style="font-size:20px\;"><span style="font-family:arial\;"><span style="box-sizing: border-box\;">I am not a member of Maury Alliance\, can I still come?</span><br style="box-sizing: border-box\; color: rgb(99\, 99\, 99)\; font-family: Arial\, Helvetica\, sans-serif\; font-size: 14px\;" />\n<span style="box-sizing: border-box\;">Yes! We want all Young Professionals in Maury County to get involved.</span></span></span><br style="box-sizing: border-box\; color: rgb(99\, 99\, 99)\; font-family: Arial\, Helvetica\, sans-serif\; font-size: 14px\;" />\n<br style="box-sizing: border-box\; color: rgb(99\, 99\, 99)\; font-family: Arial\, Helvetica\, sans-serif\; font-size: 14px\;" />\n<strong><span style="font-size:20px\;"><span style="font-family:arial\;"><span style="box-sizing: border-box\;">Am I a Young Professional?</span></span></span></strong><br style="box-sizing: border-box\; color: rgb(99\, 99\, 99)\; font-family: Arial\, Helvetica\, sans-serif\; font-size: 14px\;" />\n<span style="font-size:20px\;"><span style="font-family:arial\;"><span style="box-sizing: border-box\;">A Young Professional is anyone working or living in Maury County. From Nurses to Teachers and Manufacturers to Engineers\, anyone from 21 to 40 is considered a Young Professional!</span></span></span><br style="box-sizing: border-box\; color: rgb(99\, 99\, 99)\; font-family: Arial\, Helvetica\, sans-serif\; font-size: 14px\;" />\n<br style="box-sizing: border-box\; color: rgb(99\, 99\, 99)\; font-family: Arial\, Helvetica\, sans-serif\; font-size: 14px\;" />\n<strong><span style="font-size:20px\;"><span style="font-family:arial\;"><span style="box-sizing: border-box\;">I won&#39\;t know anyone there...</span></span></span></strong><br style="box-sizing: border-box\; color: rgb(99\, 99\, 99)\; font-family: Arial\, Helvetica\, sans-serif\; font-size: 14px\;" />\n<span style="font-size:20px\;"><span style="font-family:arial\;"><span style="box-sizing: border-box\;">That&#39\;s okay\, many people will not know anyone. Look for the registration table and we will introduce you to others and get you plugged in.</span></span></span>
LOCATION:Muletown Coffee 23 Public Square\, Columbia\, TN 38401
UID:e.1832.564522
SEQUENCE:3
DTSTAMP:20260425T232352Z
URL:https://business.mauryalliance.com/events/details/young-professionals-coffee-564522
END:VEVENT

END:VCALENDAR
