BEGIN:VCALENDAR
VERSION:2.0
PRODID:-//ChamberMaster//Event Calendar 2.0//EN
METHOD:PUBLISH
X-PUBLISHED-TTL:P3D
REFRESH-INTERVAL:P3D
CALSCALE:GREGORIAN
BEGIN:VEVENT
DTSTART:20240227T140000Z
DTEND:20240227T150000Z
X-MICROSOFT-CDO-ALLDAYEVENT:FALSE
SUMMARY:Women in Business Networking Breakfast
DESCRIPTION:Join us at Nashville Tea Company for our monthly Women in Business Networking Breakfast on Tuesday\, February 27th.\n\n\n\nMaury Alliance hosts a Women in Business Networking Breakfast on the last Tuesday of every month at to provide growth-minded women from all professional levels and backgrounds a friendly and welcoming environment where they can come together to share ideas and network. Our mission is to provide professional enrichment\, mentoring\, and networking for the women of Maury County.
X-ALT-DESC;FMTTYPE=text/html:<p><span style="font-size:16px\;"><span style="font-family:arial\;">Join us at Nashville Tea Company for our monthly Women in Business Networking Breakfast on Tuesday\, February 27th.<br>\n<br>\nMaury Alliance hosts a Women in Business Networking Breakfast on the last Tuesday of every month at to provide growth-minded women from all professional levels and backgrounds&nbsp\;a friendly and welcoming environment where they can come together to share ideas and network.&nbsp\;Our mission is to provide professional enrichment\, mentoring\, and networking for the women of Maury County.</span></span></p>\n
LOCATION:Nashville Tea Company 101 N James Campbell Blvd Columbia\, TN 38401
UID:e.1832.564557
SEQUENCE:3
DTSTAMP:20260425T232528Z
URL:https://business.mauryalliance.com/events/details/women-in-business-networking-breakfast-564557
END:VEVENT

END:VCALENDAR
