BEGIN:VCALENDAR
VERSION:2.0
PRODID:-//ChamberMaster//Event Calendar 2.0//EN
METHOD:PUBLISH
X-PUBLISHED-TTL:P3D
REFRESH-INTERVAL:P3D
CALSCALE:GREGORIAN
BEGIN:VEVENT
DTSTART:20231128T140000Z
DTEND:20231128T150000Z
X-MICROSOFT-CDO-ALLDAYEVENT:FALSE
SUMMARY:Women in Business Networking Breakfast
DESCRIPTION:Join us at B's Salty & Sweet for our monthly Women in Business Networking Breakfast on Tuesday\, November 28th.\n\n\n\nTo embrace "Giving Tuesday"\, we will be accepting donations for the Pregnancy Center of Middle TN - Columbia. They will gladly accept baby wipes and size 4 pullups. \n\n\n\nMaury Alliance hosts a Women in Business Networking Breakfast on the last Tuesday of every month at to provide growth-minded women from all professional levels and backgrounds a friendly and welcoming environment where they can come together to share ideas and network. Our mission is to provide professional enrichment\, mentoring\, and networking for the women of Maury County.
X-ALT-DESC;FMTTYPE=text/html:<p><span style="font-size:16px\;"><span style="font-family:arial\;">Join us at B&#39\;s Salty &amp\; Sweet for our monthly Women in Business Networking Breakfast on Tuesday\, November 28th.<br />\n<br />\nTo embrace &quot\;Giving Tuesday&quot\;\, we will be accepting donations for the Pregnancy Center of Middle TN - Columbia. They will gladly accept baby wipes and size 4 pullups.&nbsp\;<br />\n<br />\nMaury Alliance hosts a Women in Business Networking Breakfast on the last Tuesday of every month at to provide growth-minded women from all professional levels and backgrounds&nbsp\;a friendly and welcoming environment where they can come together to share ideas and network.&nbsp\;Our mission is to provide professional enrichment\, mentoring\, and networking for the women of Maury County.</span></span></p>\n
LOCATION:B's Salty & Sweet (in the Factory at Columbia) 101 N. James Campbell Blvd\, Suite #7 Columbia\, TN 38401
UID:e.1832.564357
SEQUENCE:3
DTSTAMP:20260425T185754Z
URL:https://business.mauryalliance.com/events/details/women-in-business-networking-breakfast-564357
END:VEVENT

END:VCALENDAR
