BEGIN:VCALENDAR
VERSION:2.0
PRODID:-//ChamberMaster//Event Calendar 2.0//EN
METHOD:PUBLISH
X-PUBLISHED-TTL:P3D
REFRESH-INTERVAL:P3D
CALSCALE:GREGORIAN
BEGIN:VEVENT
DTSTART:20120515T213000Z
DTEND:20120516T000000Z
X-MICROSOFT-CDO-ALLDAYEVENT:FALSE
SUMMARY:Women in Business Kick-Off
DESCRIPTION:Pleasant Valley Grill caterer\nTracie McGlocklin\, owner
X-ALT-DESC;FMTTYPE=text/html:Pleasant Valley Grill caterer\nTracie McGlocklin\, owner
LOCATION:The Lakes of Columbia Clubhouse Drive Columbia\, TN 368401
UID:e.1832.514393
SEQUENCE:3
DTSTAMP:20260419T193030Z
URL:https://business.mauryalliance.com/events/details/women-in-business-kick-off-05-15-2012-514393
END:VEVENT

END:VCALENDAR
