BEGIN:VCALENDAR
VERSION:2.0
PRODID:-//ChamberMaster//Event Calendar 2.0//EN
METHOD:PUBLISH
X-PUBLISHED-TTL:P3D
REFRESH-INTERVAL:P3D
CALSCALE:GREGORIAN
BEGIN:VEVENT
DTSTART:20220826T130000Z
DTEND:20220826T140000Z
X-MICROSOFT-CDO-ALLDAYEVENT:FALSE
SUMMARY:Women in Business Committee Meeting
DESCRIPTION:The Maury Alliance Women in Business Group provides growth-minded  women from all professional levels and backgrounds a friendly and welcoming environment where they can come together to share ideas and network. The committee meets as needed to plan programs and events for the WIB group. We are always looking for more committee members\, so please attend this meeting if interested!
X-ALT-DESC;FMTTYPE=text/html:The Maury Alliance Women in Business Group&nbsp\;provides growth-minded&nbsp\; women from all professional&nbsp\;levels and backgrounds a friendly and welcoming&nbsp\;environment where they can come together to share&nbsp\;ideas and network.&nbsp\;The committee meets as needed to&nbsp\;plan programs and events for the WIB group. We are always looking for more committee members\, so please attend this meeting if interested!&nbsp\;
LOCATION:Maury Alliance Upstairs Board Room 106 West 6th Street Columbia\, TN 38401
UID:e.1832.563548
SEQUENCE:3
DTSTAMP:20260424T213036Z
URL:https://business.mauryalliance.com/events/details/women-in-business-committee-meeting-563548
END:VEVENT

END:VCALENDAR
