BEGIN:VCALENDAR
VERSION:2.0
PRODID:-//ChamberMaster//Event Calendar 2.0//EN
METHOD:PUBLISH
X-PUBLISHED-TTL:P3D
REFRESH-INTERVAL:P3D
CALSCALE:GREGORIAN
BEGIN:VEVENT
DTSTART:20231210T020000Z
DTEND:20231210T040000Z
X-MICROSOFT-CDO-ALLDAYEVENT:FALSE
SUMMARY:Vinyl Radio - 70's Tribute
DESCRIPTION:VINYL RADIO BAND!\n\nA tribute to the 70's (no disco) doing everything from Doobies\, America\, Seals and Crofts to CSNY\, Bad Company\, Aerosmith and more!\n\n"Bringing back Peace\, Love and Vinyl"\n\nWe are selling reserved seating in the back half of the theatre floor and the area nearest to the stage will be for general admission standing and dancing! \n\nVIP Balcony Suite for up to 8 people for sale!\n\n\n	Best view in the house\n	Designated server for the evening \n	Charcuterie Board\n	Eight waters \n\n\nShow is 18 & up unless accompanied by parent or guardian.\n\nFor ADA requests\, please email info@themulehouse.com.
X-ALT-DESC;FMTTYPE=text/html:<div>&nbsp\;</div>\n\n<div>&nbsp\;\n<p><span style="font-family:robotobold\,helvetica\,arial\,sans-serif">VINYL RADIO BAND!</span></p>\n\n<p><em>A tribute to the 70&#39\;s (no disco) doing everything from Doobies\, America\, Seals and Crofts to CSNY\, Bad Company\, Aerosmith and more!</em></p>\n\n<p><span style="font-family:robotobold\,helvetica\,arial\,sans-serif">&quot\;Bringing back Peace\, Love and&nbsp\;Vinyl&quot\;</span></p>\n\n<p><span style="font-family:robotobold\,helvetica\,arial\,sans-serif">We are selling reserved seating in the back half of the theatre floor and the area nearest to the stage will be for general admission standing and dancing!&nbsp\;</span></p>\n\n<p><span style="font-family:robotobold\,helvetica\,arial\,sans-serif">VIP Balcony Suite for up to 8 people for sale!</span></p>\n\n<ul>\n	<li>Best view in the house</li>\n	<li>Designated server for the evening&nbsp\;</li>\n	<li>Charcuterie Board</li>\n	<li>Eight waters&nbsp\;</li>\n</ul>\n\n<p>Show is 18 &amp\; up unless accompanied by parent or guardian.</p>\n\n<p>For ADA requests\, please email info@themulehouse.com.</p>\n\n<div>&nbsp\;</div>\n</div>\n
LOCATION:The Mulehouse 812 S High St Columbia\, TN 38401
UID:e.1832.564359
SEQUENCE:3
DTSTAMP:20260425T202859Z
URL:https://business.mauryalliance.com/events/details/vinyl-radio-70-s-tribute-564359
END:VEVENT

END:VCALENDAR
