BEGIN:VCALENDAR
VERSION:2.0
PRODID:-//ChamberMaster//Event Calendar 2.0//EN
METHOD:PUBLISH
X-PUBLISHED-TTL:P3D
REFRESH-INTERVAL:P3D
CALSCALE:GREGORIAN
BEGIN:VEVENT
DTSTART:20231111T170000Z
DTEND:20231111T180000Z
X-MICROSOFT-CDO-ALLDAYEVENT:FALSE
SUMMARY:VETERANS DAY PARADE
DESCRIPTION:VETERAN" 'S DAY PARADE!\n\nColumbia Plaza To The Mulehouse
X-ALT-DESC;FMTTYPE=text/html:<u><span style="font-size:36px\;"><span style="color:#cc0000\;"><strong>VETERAN&quot\; &#39\;S DAY PARADE!</strong></span></span></u><br />\n<span style="font-size:36px\;"><strong><span style="font-size:28px\;">Columbia Plaza To The Mulehouse</span></strong></span>
LOCATION:
UID:e.1832.564496
SEQUENCE:3
DTSTAMP:20260425T185554Z
URL:https://business.mauryalliance.com/events/details/veterans-day-parade-564496
END:VEVENT

END:VCALENDAR
