BEGIN:VCALENDAR
VERSION:2.0
PRODID:-//ChamberMaster//Event Calendar 2.0//EN
METHOD:PUBLISH
X-PUBLISHED-TTL:P3D
REFRESH-INTERVAL:P3D
CALSCALE:GREGORIAN
BEGIN:VEVENT
DTSTART:20260425T130000Z
DTEND:20260426T000000Z
X-MICROSOFT-CDO-ALLDAYEVENT:FALSE
SUMMARY:Tripp's Ace 5th Annual Spring Day
DESCRIPTION:Garden Center Grand Opening\n\nBig Green Egg Demo & Free Food Samples\n\nBri's Homemade Ice Cream\n\nMilwaukee Tool Demo Tent\n\nStihl Fully Stocked For Your Outdoor Projects\n\nBiggest & Best Hanging Baskets in Columbia\n\nQuality Plants & Flowers
X-ALT-DESC;FMTTYPE=text/html:<div style="text-align:center"><span style="font-family:verdana"><strong>Garden Center Grand Opening<br />\nBig Green Egg Demo &amp\; Free Food Samples<br />\nBri&#39\;s Homemade Ice Cream<br />\nMilwaukee Tool Demo Tent<br />\nStihl Fully Stocked For Your Outdoor Projects<br />\nBiggest &amp\; Best Hanging Baskets in Columbia<br />\nQuality Plants &amp\; Flowers</strong></span></div>\n
LOCATION:Tripp's Ace Hardware 112 E James Campbell Blvd Columbia\, TN Saturday\, April 25\, 2026 8A-7P
UID:e.1832.566264
SEQUENCE:3
DTSTAMP:20260423T052923Z
URL:https://business.mauryalliance.com/events/details/tripp-s-ace-5th-annual-spring-day-566264
END:VEVENT

END:VCALENDAR
