BEGIN:VCALENDAR
VERSION:2.0
PRODID:-//ChamberMaster//Event Calendar 2.0//EN
METHOD:PUBLISH
X-PUBLISHED-TTL:P3D
REFRESH-INTERVAL:P3D
CALSCALE:GREGORIAN
BEGIN:VEVENT
DTSTART:20231110T000000Z
DTEND:20231110T020000Z
X-MICROSOFT-CDO-ALLDAYEVENT:FALSE
SUMMARY:Thoughtful Thursdays
DESCRIPTION:American Barrel located in Downtown Columbia\, recently introduced Thoughtful Thursdays! On these evenings\, a local guest shares insights and brings people together over handcrafted cocktails. Our team\, The Katie Baker Group at RE/MAX Encore is passionate about connecting the community. If you are a new resident or local who would like to learn more about our town and its offerings\, let's mix and mingle!
X-ALT-DESC;FMTTYPE=text/html:American Barrel located in Downtown Columbia\, recently introduced Thoughtful Thursdays! On these evenings\, a local guest shares insights and brings people together over handcrafted cocktails. Our team\, The Katie Baker Group at RE/MAX Encore is passionate about connecting the community. If you are a new resident or local who would like to learn more about our town and its offerings\, let&#39\;s mix and mingle!
LOCATION:American Barrel 118 W. 7th Street\, Columbia\, TN 38401
UID:e.1832.564362
SEQUENCE:3
DTSTAMP:20260425T185514Z
URL:https://business.mauryalliance.com/events/details/thoughtful-thursdays-564362
END:VEVENT

END:VCALENDAR
