BEGIN:VCALENDAR
VERSION:2.0
PRODID:-//ChamberMaster//Event Calendar 2.0//EN
METHOD:PUBLISH
X-PUBLISHED-TTL:P3D
REFRESH-INTERVAL:P3D
CALSCALE:GREGORIAN
BEGIN:VEVENT
DTSTART;VALUE=DATE:20240210
DTEND;VALUE=DATE:20240211
TRANSP:TRANSPARENT
X-MICROSOFT-CDO-ALLDAYEVENT:TRUE
SUMMARY:The Well Outreach Presents: A Night of Hope – Featuring Michael W. Smith and Helen Smallbone
DESCRIPTION:The Well Outreach Presents: A Night of Hope   Featuring Michael W. Smith and Helen Smallbone\n\nCome and join us for an unforgettable night of hope on Saturday February 10th\, 2024 at the renowned World Wide Stages in Spring Hill\, TN! This will be an evening like none other as we are joined by special guest (award winning Christian music artist) Michael W. Smith\, as well as Helen Smallbone (mother of for KING & COUNTRY and Rebecca St. James). A professionally catered dinner is included with the price of admission. Proceeds from the evening\, including a live and silent auction\, will go to benefit the Well Outreach   your local food relief organization. Special VIP and sponsorship table opportunities are available!
X-ALT-DESC;FMTTYPE=text/html:<p><em>The Well Outreach Presents:</em>&nbsp\;A Night of Hope &ndash\; Featuring Michael W. Smith and Helen Smallbone</p>\n\n<p>Come and join us for an unforgettable night of hope on Saturday February 10th\, 2024 at the renowned World Wide Stages in Spring Hill\, TN! This will be an evening like none other as we are joined by special guest (award winning Christian music artist) Michael W. Smith\, as well as Helen Smallbone (mother of for KING &amp\; COUNTRY and Rebecca St. James). A professionally catered dinner is included with the price of admission. Proceeds from the evening\, including a live and silent auction\, will go to benefit the Well Outreach &ndash\; your local food relief organization. Special VIP and sponsorship table opportunities are available!</p>\n
LOCATION:Worldwide Stages 5000 Northfield Ln Spring Hill\, TN 37174 US
UID:e.1832.564605
SEQUENCE:3
DTSTAMP:20260425T232943Z
URL:https://business.mauryalliance.com/events/details/the-well-outreach-presents-a-night-of-hope-featuring-michael-w-smith-and-helen-smallbone-564605
END:VEVENT

END:VCALENDAR
