BEGIN:VCALENDAR
VERSION:2.0
PRODID:-//ChamberMaster//Event Calendar 2.0//EN
METHOD:PUBLISH
X-PUBLISHED-TTL:P3D
REFRESH-INTERVAL:P3D
CALSCALE:GREGORIAN
BEGIN:VEVENT
DTSTART:20240107T013000Z
DTEND:20240107T033000Z
X-MICROSOFT-CDO-ALLDAYEVENT:FALSE
SUMMARY:The Tennessee Four ft. Thomas Gabriel
DESCRIPTION:The Tennessee Four is a unique\, original cast Johnny Cash show\, unlike any other Johnny Cash tribute show you might hear about or see. The band is comprised of original Johnny Cash musicians   Kerry Marks (guitar\, on tour with Cash for 5 years)\, Dave Roe (bass\, with Cash the last 10 years of his career)\, Paul Leim (drums\, performed with Cash on TV special & records)\, and a HUGE treat for all of us   featured on vocals is Cash's grandson\, Thomas Gabriel.\n\nThomas grew up on the road touring with Johnny\, and Johnny was a huge influence and inspiration in his life. He developed his vocal style in the likeness of his famous Grandpa and brings a bloodline\, close relationship and family story to this show that no one else can replicate. This is the real deal Johnny Cash show. Each member of the band is among the most successful musicians in America in their own right. All had the pleasure of performing with Johnny Cash and all are proud of performing with his talented grandson\, Thomas.
X-ALT-DESC;FMTTYPE=text/html:<p><span style="font-family:robotobold\,helvetica\,arial\,sans-serif">The Tennessee Four is a unique\, original cast Johnny Cash show\, unlike any other Johnny Cash tribute show you might hear about or see.</span>&nbsp\;The band is comprised of original Johnny Cash musicians &ndash\; Kerry Marks (guitar\, on tour with Cash for 5 years)\, Dave Roe (bass\, with Cash the last 10 years of his career)\, Paul Leim (drums\, performed with Cash on TV special &amp\; records)\, and a HUGE treat for all of us &ndash\; featured on vocals is Cash&rsquo\;s grandson\, Thomas Gabriel.</p>\n\n<p>Thomas grew up on the road touring with Johnny\, and Johnny was a huge influence and inspiration in his life. He developed his vocal style in the likeness of his famous Grandpa and brings a bloodline\, close relationship and family story to this show that no one else can replicate. This is the real deal Johnny Cash show. Each member of the band is among the most successful musicians in America in their own right. All had the pleasure of performing with Johnny Cash and all are proud of performing with his talented grandson\, Thomas.</p>\n
LOCATION:The Mulehouse 812 S High St Columbia\, TN 38401
UID:e.1832.564515
SEQUENCE:3
DTSTAMP:20260425T215400Z
URL:https://business.mauryalliance.com/events/details/the-tennessee-four-ft-thomas-gabriel-564515
END:VEVENT

END:VCALENDAR
