BEGIN:VCALENDAR
VERSION:2.0
PRODID:-//ChamberMaster//Event Calendar 2.0//EN
METHOD:PUBLISH
X-PUBLISHED-TTL:P3D
REFRESH-INTERVAL:P3D
CALSCALE:GREGORIAN
BEGIN:VEVENT
DTSTART:20231216T020000Z
DTEND:20231216T040000Z
X-MICROSOFT-CDO-ALLDAYEVENT:FALSE
SUMMARY:The Piano Men
DESCRIPTION:The Piano Men is a show formed in 2015 by Nashville based pianists Micah Snow & Chris Smallwood over their common love for the music of Elton John & Billy Joel. Based on John & Joel's popular "Face to Face " tour\, this 9-piece group will wow you with their arrangements and presentation of your favorite songs from the Elton John and Billy Joel catalog! \n \n\nVIP Balcony Suite available for 6-8 of you and your friends! Best view in the theatre with velvet couch\, two high-top tables with barstools\, your own bar server for the evening\, and charcuterie board!\n \n\nFor ADA requests\, please email info@themulehouse.com.
X-ALT-DESC;FMTTYPE=text/html:<p><span style="font-family:robotobold\,helvetica\,arial\,sans-serif">The Piano Men</span>&nbsp\;is a show formed in 2015 by Nashville based pianists Micah Snow &amp\; Chris Smallwood over their common love for the music of Elton John &amp\; Billy Joel. Based on John &amp\; Joel&#39\;s popular &quot\;Face to Face &quot\; tour\, this 9-piece group will wow you with their arrangements and presentation of your favorite songs from the Elton John and Billy Joel catalog!&nbsp\;</p>\n&nbsp\;\n\n<p><span style="font-family:robotobold\,helvetica\,arial\,sans-serif">VIP Balcony Suite available for 6-8 of you and your friends! Best view in the theatre with velvet couch\,&nbsp\;two high-top tables with barstools\, your own bar server for the evening\, and charcuterie board!</span></p>\n&nbsp\;\n\n<p>For ADA requests\, please email info@themulehouse.com.</p>\n
LOCATION:The Mulehouse 812 S High St Columbia\, TN 38401
UID:e.1832.564360
SEQUENCE:3
DTSTAMP:20260425T202458Z
URL:https://business.mauryalliance.com/events/details/the-piano-men-564360
END:VEVENT

END:VCALENDAR
