BEGIN:VCALENDAR
VERSION:2.0
PRODID:-//ChamberMaster//Event Calendar 2.0//EN
METHOD:PUBLISH
X-PUBLISHED-TTL:P3D
REFRESH-INTERVAL:P3D
CALSCALE:GREGORIAN
BEGIN:VEVENT
DTSTART:20231201T140000Z
DTEND:20231201T223000Z
X-MICROSOFT-CDO-ALLDAYEVENT:FALSE
SUMMARY:Tennessee Small Business Development Center
DESCRIPTION:Get the resources and expertise you need to start\, grow\, and sustain your business\n\n\nwww.tsbdc.org\n\nTo sign up for consulting services\, please visit https://tsbdc.org/consulting/ and select county of business.\n\nTo schedule an in-person meeting in Columbia\, please use the following links:\n\nStart-Up/New Businesses:            https://bit.ly/maurystartup\n\nExisting Businesses:                         https://bit.ly/mauryexisting
X-ALT-DESC;FMTTYPE=text/html:<h2 new="" style="box-sizing: border-box\; margin: 0px\; padding: 0px 0px 10px\; border: 0px\; outline: 0px\; font-size: 80px\; text-size-adjust: 100%\; vertical-align: baseline\; background-image: initial\; background-position: initial\; background-size: initial\; background-repeat: initial\; background-attachment: initial\; background-origin: initial\; background-clip: initial\; color: rgb(0\, 45\, 98)\; line-height: 1em\; font-weight: 700\; font-family: Merriweather\, Georgia\, " text-align:="" times="">Get the resources and expertise you need to start\, grow\, and sustain your business</h2>\n<br />\n<strong><u><span style="font-size:36px\;"><span style="color:#0000FF\;">www.tsbdc.org</span></span></u></strong>\n\n<p class="x_MsoNormal" style="margin: 0in\; font-size: 11pt\; font-family: Calibri\, sans-serif\; color: rgb(36\, 36\, 36)\;"><span style="font-size:18px\;"><span style="border: 0px\; font-style: inherit\; font-variant: inherit\; font-weight: inherit\; font-stretch: inherit\; line-height: inherit\; font-family: inherit\; font-optical-sizing: inherit\; font-kerning: inherit\; font-feature-settings: inherit\; font-variation-settings: inherit\; margin: 0px\; padding: 0px\; vertical-align: baseline\; color: black !important\;">To sign up for consulting services\, please visit&nbsp\;<a data-auth="NotApplicable" data-linkindex="0" href="https://tsbdc.org/consulting/" style="border: 0px\; font: inherit\; margin: 0px\; padding: 0px\; vertical-align: baseline\; color: blue\;"><span style="border: 0px\; font-style: inherit\; font-variant: inherit\; font-weight: inherit\; font-stretch: inherit\; line-height: inherit\; font-family: inherit\; font-optical-sizing: inherit\; font-kerning: inherit\; font-feature-settings: inherit\; font-variation-settings: inherit\; margin: 0px\; padding: 0px\; vertical-align: baseline\; color: rgb(5\, 99\, 193) !important\;">https://tsbdc.org/consulting/</span></a>&nbsp\;and select county of business.</span></span></p>\n\n<p class="x_MsoNormal" style="margin: 0in\; font-size: 11pt\; font-family: Calibri\, sans-serif\; color: rgb(36\, 36\, 36)\;"><span style="font-size:18px\;">To schedule an in-person meeting in Columbia\, please use the following links:</span></p>\n\n<p class="x_MsoNormal" style="margin: 0in\; font-size: 11pt\; font-family: Calibri\, sans-serif\; color: rgb(36\, 36\, 36)\;"><span style="font-size:18px\;">Start-Up/New Businesses: &nbsp\;&nbsp\;&nbsp\;&nbsp\;&nbsp\;&nbsp\;&nbsp\;&nbsp\;&nbsp\;&nbsp\;&nbsp\;<u><span style="border: 0px\; font-style: inherit\; font-variant: inherit\; font-weight: inherit\; font-stretch: inherit\; line-height: inherit\; font-family: inherit\; font-optical-sizing: inherit\; font-kerning: inherit\; font-feature-settings: inherit\; font-variation-settings: inherit\; margin: 0px\; padding: 0px\; vertical-align: baseline\; color: rgb(5\, 99\, 193) !important\;"><a data-auth="NotApplicable" data-linkindex="1" href="https://bit.ly/maurystartup" style="border: 0px\; font: inherit\; margin: 0px\; padding: 0px\; vertical-align: baseline\; color: blue\;">https://bit.ly/maurystartup</a></span></u></span></p>\n\n<p class="x_MsoNormal" style="margin: 0in\; font-size: 11pt\; font-family: Calibri\, sans-serif\; color: rgb(36\, 36\, 36)\;"><span style="font-size:18px\;"><span style="border: 0px\; font-style: inherit\; font-variant: inherit\; font-weight: inherit\; font-stretch: inherit\; line-height: inherit\; font-family: inherit\; font-optical-sizing: inherit\; font-kerning: inherit\; font-feature-settings: inherit\; font-variation-settings: inherit\; margin: 0px\; padding: 0px\; vertical-align: baseline\; color: black !important\;">Existing Businesses:&nbsp\;&nbsp\;&nbsp\;&nbsp\;&nbsp\;&nbsp\;&nbsp\;&nbsp\; &nbsp\;&nbsp\;&nbsp\;&nbsp\;&nbsp\;&nbsp\;&nbsp\;&nbsp\;&nbsp\;&nbsp\;&nbsp\;&nbsp\;&nbsp\;&nbsp\;&nbsp\;&nbsp\;<a data-auth="NotApplicable" data-linkindex="2" href="https://bit.ly/mauryexisting" style="border: 0px\; font: inherit\; margin: 0px\; padding: 0px\; vertical-align: baseline\; color: blue\;"><span style="border: 0px\; font-style: inherit\; font-variant: inherit\; font-weight: inherit\; font-stretch: inherit\; line-height: inherit\; font-family: inherit\; font-optical-sizing: inherit\; font-kerning: inherit\; font-feature-settings: inherit\; font-variation-settings: inherit\; margin: 0px\; padding: 0px\; vertical-align: baseline\; color: rgb(5\, 99\, 193) !important\;">https://bit.ly/mauryexisting</span></a></span></span></p>\n
LOCATION:The Maury County Chamber of Commerce & Economic Alliance's office 106 West 6th Street Columbia\, TN 38401
UID:e.1832.564179
SEQUENCE:3
DTSTAMP:20260425T202653Z
URL:https://business.mauryalliance.com/events/details/tennessee-small-business-development-center-564179
END:VEVENT

END:VCALENDAR
