BEGIN:VCALENDAR
VERSION:2.0
PRODID:-//ChamberMaster//Event Calendar 2.0//EN
METHOD:PUBLISH
X-PUBLISHED-TTL:P3D
REFRESH-INTERVAL:P3D
CALSCALE:GREGORIAN
BEGIN:VEVENT
DTSTART:20230915T100000Z
DTEND:20230916T020000Z
X-MICROSOFT-CDO-ALLDAYEVENT:FALSE
SUMMARY:TASTINGS IN THE LOUNGE
DESCRIPTION:Join us as our "Spirit Specialist" teaches the art of making some of your favorite cocktails! You will learn how to make three fabulous drinks and be the first to taste them\, with tapas available\, too! Cocktails include: Old Fashioned\, Negroni\, Margarita\, Old Cuban.
X-ALT-DESC;FMTTYPE=text/html:<span style="background-color:rgb(255\, 255\, 255)\; font-family:montserrat\,helvetica\,arial\,lucida\,sans-serif\; font-size:15px">Join us as our &ldquo\;Spirit Specialist&rdquo\; teaches the art of making some of your favorite cocktails! You will learn how to make three fabulous drinks and be the first to taste them\, with tapas available\, too! Cocktails include: Old Fashioned\, Negroni\, Margarita\, Old Cuban.</span>
LOCATION:THE MULEHOUSE
UID:e.1832.564150
SEQUENCE:3
DTSTAMP:20260425T173015Z
URL:https://business.mauryalliance.com/events/details/tastings-in-the-lounge-564150
END:VEVENT

END:VCALENDAR
