BEGIN:VCALENDAR
VERSION:2.0
PRODID:-//ChamberMaster//Event Calendar 2.0//EN
METHOD:PUBLISH
X-PUBLISHED-TTL:P3D
REFRESH-INTERVAL:P3D
CALSCALE:GREGORIAN
BEGIN:VEVENT
DTSTART:20231002T000000Z
DTEND:20231002T030000Z
X-MICROSOFT-CDO-ALLDAYEVENT:FALSE
SUMMARY:Tanya Tucker- Kiss Breast Cancer Goodbye Gala Concert
DESCRIPTION:Kiss Breast Cancer Goodbye in its third year benefitting  Susan G. Komen to end breast cancer . Our host Blair Garner\, owner of The Mulehouse\, will introduce us to some wonderful special guests\, testimonies and impactful videos along with a live auction by the one and only Matt Rogers.( Voice of the Tennessee Titans!) \n\nThe evening will culminate with a concert headlined by the incredible TANYA TUCKER and her band!  We are so grateful to have such a legendary artist supporting us in the fight   this concert will rock\, so call your friends and don't miss out!\n\nSponsorships are available for premier seating and VIP cocktail hour in our lounge prior to the show  contact Amy Fish at amy@themulehouse.com.\n\n \n\nWe will have a silent auction set up in Dawson Hall from 4:00pm until show time\, so join us early and grab a drink before the show! Main theatre doors open at 6:00pm\, with the show beginning at 7:00pm.\n\nVIP Balcony Suite for 6-8 people ! \n\nThis has the best seat in the house! This suite holds 6-8 people and has a velvet couch\, two high top tables with bar stools and you have your own private server for the evening ! Enjoy a charcuterie board from Buck and Board for you and your guests!
X-ALT-DESC;FMTTYPE=text/html:<p><span style="font-family:robotobold\,helvetica\,arial\,sans-serif">Kiss Breast Cancer Goodbye</span>&nbsp\;in its third year benefitting&nbsp\;&nbsp\;Susan G. Komen to end breast cancer&nbsp\;. Our host Blair Garner\, owner of The Mulehouse\, will introduce us to some wonderful special guests\, testimonies and impactful videos along with a live auction by the one and only&nbsp\;Matt Rogers.( Voice of the Tennessee Titans!)&nbsp\;</p>\n\n<p>The evening will culminate&nbsp\;with a concert headlined by the incredible TANYA TUCKER and her band! &nbsp\;We are so grateful to&nbsp\;have such a legendary artist supporting us in the fight &ndash\; this concert will rock\, so call your friends and don&#39\;t miss out!</p>\n\n<p><span style="font-family:robotobold\,helvetica\,arial\,sans-serif">Sponsorships&nbsp\;are available for premier seating and VIP cocktail hour in our lounge prior to the show&ndash\; contact Amy Fish at amy@themulehouse.com.</span></p>\n\n<p>&nbsp\;</p>\n\n<p>We will have a<span style="font-family:robotobold\,helvetica\,arial\,sans-serif">&nbsp\;silent auction</span>&nbsp\;set up in Dawson Hall from 4:00pm until show time\, so join us early and grab a drink&nbsp\;before the show! Main theatre doors open at 6:00pm\, with the show beginning at 7:00pm.</p>\n\n<p><span style="font-family:robotobold\,helvetica\,arial\,sans-serif">VIP Balcony Suite for 6-8 people !&nbsp\;</span></p>\n\n<p>This has the best seat in the house! This suite holds 6-8 people and has a velvet couch\, two high top tables with bar stools and you have your own private server for the evening ! Enjoy a charcuterie board from Buck and Board for you and your guests!&nbsp\;</p>\n
LOCATION:THE MULEHOUSE
UID:e.1832.564083
SEQUENCE:3
DTSTAMP:20260425T173348Z
URL:https://business.mauryalliance.com/events/details/tanya-tucker-kiss-breast-cancer-goodbye-gala-concert-564083
END:VEVENT

END:VCALENDAR
