BEGIN:VCALENDAR
VERSION:2.0
PRODID:-//ChamberMaster//Event Calendar 2.0//EN
METHOD:PUBLISH
X-PUBLISHED-TTL:P3D
REFRESH-INTERVAL:P3D
CALSCALE:GREGORIAN
BEGIN:VEVENT
DTSTART:20231210T230000Z
DTEND:20231211T010000Z
X-MICROSOFT-CDO-ALLDAYEVENT:FALSE
SUMMARY:Sundaes with Santa at Hattie Jane's Creamery
DESCRIPTION:Santa will be onsite at Hattie Jane's Creamery for a meet & greet and photo booth photo-op! Tickets are $25 for a group of four ($5 for each additional person) and include photos with Santa and hot cocoa.
X-ALT-DESC;FMTTYPE=text/html:<span style="font-size:16px\;">Santa will be onsite at Hattie Jane&#39\;s Creamery for a meet &amp\; greet and photo booth photo-op! Tickets are $25 for a group of four ($5 for each additional person) and include photos with Santa and hot cocoa.&nbsp\;</span>
LOCATION:Hattie Jane's Creamery 16 Public Square\, Columbia\, TN
UID:e.1832.564562
SEQUENCE:3
DTSTAMP:20260425T215741Z
URL:https://business.mauryalliance.com/events/details/sundaes-with-santa-at-hattie-jane-s-creamery-564562
END:VEVENT

END:VCALENDAR
