BEGIN:VCALENDAR
VERSION:2.0
PRODID:-//ChamberMaster//Event Calendar 2.0//EN
METHOD:PUBLISH
X-PUBLISHED-TTL:P3D
REFRESH-INTERVAL:P3D
CALSCALE:GREGORIAN
BEGIN:VEVENT
DTSTART:20231103T220000Z
DTEND:20231104T010000Z
X-MICROSOFT-CDO-ALLDAYEVENT:FALSE
SUMMARY:Strolling on 6th | Columbia First Fridays
DESCRIPTION:Join Maury Alliance\, Title Associates of Columbia and RE/MAX Encore during Columbia First Fridays for Strolling on Sixth\, a community block party featuring live music\, food trucks\, sweet treats\, business pop-ups\, giveaways\, games and a huge lawn for families to enjoy.\n\nBring a chair!... \n\n                    Bring a blanket!...\n\n                                        and stay awhile!\n\nTony Malugin\, well known line dancing instructor\, will be here to help us dance the night away! So put on those boots and join us for an evening of dancing\, delicious food and desserts!
X-ALT-DESC;FMTTYPE=text/html:<div class="xdj266r x11i5rnm xat24cr x1mh8g0r x1vvkbs" color:="" font-size:="" segoe="" style="margin: 0px\; overflow-wrap: break-word\; font-family: " ui=""><span style="font-size:16px\;"><span style="font-family:arial\;">Join Maury Alliance\, Title Associates of Columbia and RE/MAX Encore during Columbia First Fridays for <em>Strolling on Sixth</em>\, a community block party featuring live music\, food trucks\, sweet treats\, business pop-ups\, giveaways\, games and a huge lawn for families to enjoy.<br />\n<span style="font-size:20px\;"><span style="color:#4B0082\;"><em><strong>Bring a chair!...&nbsp\;</strong></em></span></span></span></span><br />\n<span style="font-size:18px\;"><span style="font-size:20px\;"><span style="color:#4B0082\;"><em><strong>&nbsp\;&nbsp\;&nbsp\;&nbsp\;&nbsp\;&nbsp\;&nbsp\;&nbsp\;&nbsp\;&nbsp\;&nbsp\;&nbsp\;&nbsp\;&nbsp\;&nbsp\;&nbsp\;&nbsp\;&nbsp\;&nbsp\;&nbsp\;<span style="font-family:arial\;">Bring a blanket!...</span><br />\n&nbsp\;&nbsp\;&nbsp\;&nbsp\;&nbsp\;&nbsp\;&nbsp\;&nbsp\;&nbsp\;&nbsp\;&nbsp\;&nbsp\;&nbsp\;&nbsp\;&nbsp\;&nbsp\;&nbsp\;&nbsp\;&nbsp\;&nbsp\;&nbsp\;&nbsp\;&nbsp\;&nbsp\;&nbsp\;&nbsp\;&nbsp\;&nbsp\;&nbsp\;&nbsp\;&nbsp\;&nbsp\;&nbsp\;&nbsp\;&nbsp\;&nbsp\;&nbsp\;&nbsp\;&nbsp\;&nbsp\;<span style="font-family: arial\;">and stay awhile!</span></strong></em></span></span></span><br />\n<span style="font-family: arial\; font-size: 16px\;">Tony Malugin\, well known line dancing instructor\, will be here to help us dance the night away!&nbsp\;</span><span style="font-size:18px\;"><span style="font-size:16px\;">So put on those boots and join us for an evening of dancing\, delicious food and desserts!</span></span><br />\n<br />\n<br />\n&nbsp\;</div>\n
LOCATION:100 - 104 - 106 West 6th Street\, Columbia\, TN 38401 In the parking lots and lawn behind Maury Alliance\, Title Associates of Columbia\, and RE/MAX Encore.
UID:e.1832.564354
SEQUENCE:3
DTSTAMP:20260425T202730Z
URL:https://business.mauryalliance.com/events/details/strolling-on-6th-columbia-first-fridays-564354
END:VEVENT

END:VCALENDAR
