BEGIN:VCALENDAR
VERSION:2.0
PRODID:-//ChamberMaster//Event Calendar 2.0//EN
METHOD:PUBLISH
X-PUBLISHED-TTL:P3D
REFRESH-INTERVAL:P3D
CALSCALE:GREGORIAN
BEGIN:VEVENT
DTSTART:20231006T220000Z
DTEND:20231007T010000Z
X-MICROSOFT-CDO-ALLDAYEVENT:FALSE
SUMMARY:Strolling on 6th | Columbia First Fridays
DESCRIPTION:Join Maury Alliance\, Title Associates of Columbia and RE/MAX Encore during Columbia First Fridays for Strolling on the Sixth\, a community block party featuring live music\, food trucks\, sweet treats\, business pop-ups\, giveaways\, games and a huge lawn for families to enjoy.\n\nBring a chair!... \n\n                    Bring a blanket!...\n\n                                        and stay awhile!\n\nMusic will be in the air so purchase a delicious food truck delicacy or amazing dessert then find a comfortable spot on the lawn and enjoy music into the night. \n\nClassic Vinyl\, well known local classic hit band\, will be the Red Barn's featured musician.\n\nCheck them out on Instagram and FaceBook!
X-ALT-DESC;FMTTYPE=text/html:<div class="xdj266r x11i5rnm xat24cr x1mh8g0r x1vvkbs" color:="" font-size:="" segoe="" style="margin: 0px\; overflow-wrap: break-word\; font-family: " ui=""><span style="font-size:16px\;"><span style="font-family:arial\;">Join Maury Alliance\, Title Associates of Columbia and RE/MAX Encore during Columbia First Fridays for <em>Strolling on the Sixth</em>\, a community block party featuring live music\, food trucks\, sweet treats\, business pop-ups\, giveaways\, games and a huge lawn for families to enjoy.<br />\n<span style="font-size:20px\;"><span style="color:#4B0082\;"><em><strong>Bring a chair!...&nbsp\;</strong></em></span></span></span></span><br />\n<span style="font-size:18px\;"><span style="font-size:20px\;"><span style="color:#4B0082\;"><em><strong>&nbsp\;&nbsp\;&nbsp\;&nbsp\;&nbsp\;&nbsp\;&nbsp\;&nbsp\;&nbsp\;&nbsp\;&nbsp\;&nbsp\;&nbsp\;&nbsp\;&nbsp\;&nbsp\;&nbsp\;&nbsp\;&nbsp\;&nbsp\;<span style="font-family:arial\;">Bring a blanket!...</span><br />\n&nbsp\;&nbsp\;&nbsp\;&nbsp\;&nbsp\;&nbsp\;&nbsp\;&nbsp\;&nbsp\;&nbsp\;&nbsp\;&nbsp\;&nbsp\;&nbsp\;&nbsp\;&nbsp\;&nbsp\;&nbsp\;&nbsp\;&nbsp\;&nbsp\;&nbsp\;&nbsp\;&nbsp\;&nbsp\;&nbsp\;&nbsp\;&nbsp\;&nbsp\;&nbsp\;&nbsp\;&nbsp\;&nbsp\;&nbsp\;&nbsp\;&nbsp\;&nbsp\;&nbsp\;&nbsp\;&nbsp\;<span style="font-family: arial\;">and stay awhile!</span></strong></em></span></span><br />\n<span style="font-size:16px\;">Music will be in the air so purchase a delicious food truck delicacy or amazing dessert then find a comfortable spot on the lawn and enjoy music into the night.&nbsp\;</span></span><br />\n<span style="font-size:16px\;"><span style="font-family:arial\;">Classic Vinyl\, well known local&nbsp\;classic hit band\, will be the Red Barn&#39\;s featured <span style="background:white\;"><span style="color:#050505\;">musician.<br />\nCheck them out on Instagram and FaceBook!</span></span></span></span></div>\n
LOCATION:100 - 104 - 106 West 6th Street\, Columbia\, TN 38401 In the parking lots and lawn behind Maury Alliance\, Title Associates of Columbia\, and RE/MAX Encore. Music will be set up under the red barn with plenty of room on the grass for your chairs.
UID:e.1832.564145
SEQUENCE:3
DTSTAMP:20260425T185829Z
URL:https://business.mauryalliance.com/events/details/strolling-on-6th-columbia-first-fridays-564145
END:VEVENT

END:VCALENDAR
