BEGIN:VCALENDAR
VERSION:2.0
PRODID:-//ChamberMaster//Event Calendar 2.0//EN
METHOD:PUBLISH
X-PUBLISHED-TTL:P3D
REFRESH-INTERVAL:P3D
CALSCALE:GREGORIAN
BEGIN:VEVENT
DTSTART:20231021T133000Z
DTEND:20231021T210000Z
X-MICROSOFT-CDO-ALLDAYEVENT:FALSE
SUMMARY:STEM Within Reach
DESCRIPTION:WHAT IS STEM WITHIN REACH?\n\n\n	One-day STEM forum\n	Open to all 6th\, 7th & 8th graders\n	Interactive hands-on STEM activities\n	Provides awareness of STEM careers available in Tennessee\n	Promotes and encourages early student success in STEM\n	Promotes the scientific and technological understanding of STEM fields\n\n\nSTEM WITHIN REACH WORKSHOPS\n\nThe STEM Within Reach workshops are designed to teach middle school students about the different opportunities in STEM-related careers as they begin to think about their futures.\n\nStations will be set up around campus for the students to observe and participate as Columbia State faculty and guest presenters guide them through an interactive hands-on experience.\n\nTopics include animal science\, astronomy\, biology\, chemistry\, engineering\, math\, technology and more. The following are just a few of past workshop stations (stay tuned for a full list of upcoming events):\n\n\n	Zoological Interaction\n	Livestock Optical Examination (aka Cow Eyeball Dissection)\n	LEGO Car Assembly\n	Chemistry Flame Tests\n	Self-Sustaining Ecosystems\n	The Mystery Box\n	Creating Holograms\n	DNA Extractions\n	Make Your Own Lip Balm
X-ALT-DESC;FMTTYPE=text/html:<h3>WHAT IS STEM WITHIN REACH?</h3>\n\n<ul>\n	<li>One-day STEM forum</li>\n	<li>Open to all 6th\, 7th &amp\; 8th graders</li>\n	<li>Interactive hands-on STEM activities</li>\n	<li>Provides awareness of STEM careers available in Tennessee</li>\n	<li>Promotes and encourages early student success in STEM</li>\n	<li>Promotes the scientific and technological understanding of STEM fields</li>\n</ul>\n\n<h3>STEM WITHIN REACH WORKSHOPS</h3>\n\n<p>The STEM Within Reach workshops are designed to teach middle school students about the different opportunities in STEM-related careers as they begin to think about their futures.<br />\nStations will be set up around campus for the students to observe and participate as Columbia State faculty and guest presenters guide them through an interactive hands-on experience.<br />\nTopics include animal science\, astronomy\, biology\, chemistry\, engineering\, math\, technology and more. The following are just a few of past workshop stations (stay tuned for a full list of upcoming events):</p>\n\n<ul>\n	<li>Zoological Interaction</li>\n	<li>Livestock Optical Examination (aka Cow Eyeball Dissection)</li>\n	<li>LEGO Car Assembly</li>\n	<li>Chemistry Flame Tests</li>\n	<li>Self-Sustaining Ecosystems</li>\n	<li>The Mystery Box</li>\n	<li>Creating Holograms</li>\n	<li>DNA Extractions</li>\n	<li>Make Your Own Lip Balm&nbsp\;</li>\n</ul>\n
LOCATION:Columbia State Community College 1665 Hampshire Pike Columbia\, TN 38401 Hickman Building
UID:e.1832.564201
SEQUENCE:3
DTSTAMP:20260425T185514Z
URL:https://business.mauryalliance.com/events/details/stem-within-reach-564201
END:VEVENT

END:VCALENDAR
