BEGIN:VCALENDAR
VERSION:2.0
PRODID:-//ChamberMaster//Event Calendar 2.0//EN
METHOD:PUBLISH
X-PUBLISHED-TTL:P3D
REFRESH-INTERVAL:P3D
CALSCALE:GREGORIAN
BEGIN:VEVENT
DTSTART:20240216T010000Z
DTEND:20240216T040000Z
X-MICROSOFT-CDO-ALLDAYEVENT:FALSE
SUMMARY:Steep Canyon Rangers Concert
DESCRIPTION:Join the Steep Canyon Rangers for an evening of Bluegrass music at Columbia State Community College.
X-ALT-DESC;FMTTYPE=text/html:Join the Steep Canyon Rangers for an evening of Bluegrass music at Columbia State Community College.
LOCATION:Columbia State Community College
UID:e.1832.564506
SEQUENCE:3
DTSTAMP:20260425T232638Z
URL:https://business.mauryalliance.com/events/details/steep-canyon-rangers-concert-564506
END:VEVENT

END:VCALENDAR
