BEGIN:VCALENDAR
VERSION:2.0
PRODID:-//ChamberMaster//Event Calendar 2.0//EN
METHOD:PUBLISH
X-PUBLISHED-TTL:P3D
REFRESH-INTERVAL:P3D
CALSCALE:GREGORIAN
BEGIN:VEVENT
DTSTART:20240223T124500Z
DTEND:20240223T140000Z
X-MICROSOFT-CDO-ALLDAYEVENT:FALSE
SUMMARY:State Eggs & Issues
DESCRIPTION:Join Maury Alliance and Breakfast Rotary for our Annual State Eggs & Issues.\n\n\n\nThis event features a moderated panel discussion and Q&A with Senator Dr. Joey Hensley\, Representative Scott Cepicky\, and Representative Kip Capley.\n\nTo submit a question or topic in advance for consideration\, please email egallegos@mauryalliance.com.
X-ALT-DESC;FMTTYPE=text/html:<p><span style="color: rgb(29\, 33\, 41)\; font-family: Helvetica\, Arial\, sans-serif\; font-size: 14px\; white-space: pre-wrap\;">Join Maury Alliance and Breakfast Rotary for our Annual State Eggs &amp\; Issues.<br />\n<br />\nThis event features a moderated panel discussion and Q&amp\;A with Senator Dr. Joey Hensley\, Representative Scott Cepicky\, and Representative Kip Capley.</span></p>\n\n<p><span style="color: rgb(29\, 33\, 41)\; font-family: Helvetica\, Arial\, sans-serif\; font-size: 14px\; white-space: pre-wrap\;">To submit a question or topic in advance for consideration\, please email egallegos@mauryalliance.com. </span><br />\n&nbsp\;</p>\n
LOCATION:Memorial Building 308 W 7th Street Columbia\, TN 38401
UID:e.1832.564604
SEQUENCE:3
DTSTAMP:20260425T232202Z
URL:https://business.mauryalliance.com/events/details/state-eggs-issues-564604
END:VEVENT

END:VCALENDAR
