BEGIN:VCALENDAR
VERSION:2.0
PRODID:-//ChamberMaster//Event Calendar 2.0//EN
METHOD:PUBLISH
X-PUBLISHED-TTL:P3D
REFRESH-INTERVAL:P3D
CALSCALE:GREGORIAN
BEGIN:VEVENT
DTSTART:20230916T140000Z
DTEND:20230916T160000Z
X-MICROSOFT-CDO-ALLDAYEVENT:FALSE
SUMMARY:Southern Gospel Breakfast Show
DESCRIPTION:Southern Gospel Breakfast Show \n\nSaturday\, September 16th\n\nFeaturing Logan Blade and the Kelly's of Lawrenceburg TN.\n\nHosted by Pleasant Heights Baptist Church 9 am   11 am Tickets $10.00 at the door\, Tickets Include a Pancake and Sausage Plate and Entertainment.\n\nAll Revenue to Benefit Maury County Senior Center.
X-ALT-DESC;FMTTYPE=text/html:<p class="x_MsoNormal" style="margin-bottom: 0px\; margin-top: 0px\; color: rgb(66\, 66\, 66)\; font-family: &quot\;Google Sans&quot\;\, Roboto\, RobotoDraft\, Helvetica\, Arial\, sans-serif\; font-size: 16px\;"><u><strong>Southern Gospel Breakfast Show</strong></u>&nbsp\;<br />\nSaturday\, September 16<sup>th</sup><br />\nFeaturing Logan Blade and the Kelly&rsquo\;s of Lawrenceburg TN.</p>\n\n<p class="x_MsoNormal" style="margin-bottom: 0px\; margin-top: 0px\; color: rgb(66\, 66\, 66)\; font-family: &quot\;Google Sans&quot\;\, Roboto\, RobotoDraft\, Helvetica\, Arial\, sans-serif\; font-size: 16px\;">Hosted by Pleasant Heights Baptist Church 9 am &ndash\; 11 am Tickets $10.00 at the door\, Tickets Include a Pancake and Sausage Plate and Entertainment.</p>\n\n<p class="x_MsoNormal" style="margin-bottom: 0px\; margin-top: 0px\; color: rgb(66\, 66\, 66)\; font-family: &quot\;Google Sans&quot\;\, Roboto\, RobotoDraft\, Helvetica\, Arial\, sans-serif\; font-size: 16px\;">All Revenue to Benefit Maury County Senior Center.&nbsp\;</p>\n
LOCATION:Pleasant Heights Baptist Church 2712 Trotwood Ave\, Columbia\, TN 38401
UID:e.1832.564162
SEQUENCE:3
DTSTAMP:20260425T172956Z
URL:https://business.mauryalliance.com/events/details/southern-gospel-breakfast-show-564162
END:VEVENT

END:VCALENDAR
