BEGIN:VCALENDAR
VERSION:2.0
PRODID:-//ChamberMaster//Event Calendar 2.0//EN
METHOD:PUBLISH
X-PUBLISHED-TTL:P3D
REFRESH-INTERVAL:P3D
CALSCALE:GREGORIAN
BEGIN:VEVENT
DTSTART;VALUE=DATE:20231023
DTEND;VALUE=DATE:20231024
TRANSP:TRANSPARENT
X-MICROSOFT-CDO-ALLDAYEVENT:TRUE
SUMMARY:SMTAR: School Lunch Fundraiser
DESCRIPTION:School Lunch Fundraiser - Now through November 30th \n\nTo help children in the following 8 counties:\n\nGiles\, Lawrence\, Lewis\, Lincoln\, Marshall\, Maury\, Perry & Wayne\n\n\n\nCHALLENGE\n\nWe know that children cannot learn and grow if they do not have access to meals. Educators and school staff in our area are faced with the challenge of observing children who must have less than others - and sometimes nothing at all. We can help.\n\n\n\nThe SMTAR Caring 4 Children School Lunch Program challenges our neighbors to donate just $20(or more)\, through our program\, to their local school district to help pay the balances of student lunch accounts. Funds are being collected by the SMTAR Public Relations and Core Standards Compliance Committee and will be distributed through the area school districts to student accounts who need it the most.\n\n\n\nWe hope that you will join us in this endeavor by scanning the QR Code\, visiting our website or calling us to donate today.
X-ALT-DESC;FMTTYPE=text/html:<span style="font-size:16px\;"><u><strong>School Lunch Fundraiser - Now through November 30th&nbsp\;</strong></u><br />\n<em>To help children in the following 8 counties:</em><br />\nGiles\, Lawrence\, Lewis\, Lincoln\, Marshall\, Maury\, Perry &amp\; Wayne<br />\n<br />\n<u><strong>CHALLENGE</strong></u><br />\nWe know that children cannot learn and grow if they do not have access to meals. Educators and school staff in our area are faced with the challenge of observing children who must have less than others - and sometimes nothing at all. We can help.<br />\n<br />\nThe SMTAR Caring 4 Children School Lunch Program challenges our neighbors to donate just $20(or more)\, through our program\, to their local school district to help pay the balances of student lunch accounts. Funds are being collected by the SMTAR Public Relations and Core Standards Compliance Committee and will be distributed through the area school districts to student accounts who need it the most.<br />\n<br />\nWe hope that you will join us in this endeavor by scanning the QR Code\, visiting our website or calling us to donate today.</span>
LOCATION:304 River Road Columbia\, TN 38401
UID:e.1832.564350
SEQUENCE:3
DTSTAMP:20260425T172831Z
URL:https://business.mauryalliance.com/events/details/smtar-school-lunch-fundraiser-564350
END:VEVENT

END:VCALENDAR
