BEGIN:VCALENDAR
VERSION:2.0
PRODID:-//ChamberMaster//Event Calendar 2.0//EN
METHOD:PUBLISH
X-PUBLISHED-TTL:P3D
REFRESH-INTERVAL:P3D
CALSCALE:GREGORIAN
BEGIN:VEVENT
DTSTART:20220803T133000Z
DTEND:20220803T143000Z
X-MICROSOFT-CDO-ALLDAYEVENT:FALSE
SUMMARY:Small Business Q&A with Mayor Molder and Paul Keltner of Development Services
DESCRIPTION:In place of the monthly Retail Committee meeting\, we are hosting Columbia Mayor Chaz Molder and Columbia Development Services Director Paul Keltner for a Q&A session with local retailers on Wednesday\, August 3rd at 8:30am. Mayor Molder and Paul will be answering YOUR business and community related questions. If you have a specific question or topic you would like addressed\, please submit it in advance by emailing Caroline McBroom at cmcbroom@mauryalliance.com We will only take in-person questions if time allows. We encourage all retailers to take advantage of this opportunity\, but space is limited so please RSVP if you plan to attend!  Remember to submit your question or topic in advance!
X-ALT-DESC;FMTTYPE=text/html:In place of the monthly Retail Committee meeting\, we are hosting Columbia Mayor Chaz Molder and Columbia Development Services Director Paul Keltner for a Q&amp\;A session with local retailers on Wednesday\, August 3rd at 8:30am. Mayor Molder and Paul will be answering YOUR business and community related questions.&nbsp\;If you have a specific question or topic you would like addressed\, please submit it in advance by emailing Caroline McBroom at cmcbroom@mauryalliance.com We will only take in-person questions if time allows. We encourage all retailers to take advantage of this opportunity\, but space is limited so<strong> <em>please RSVP if you plan to attend!&nbsp\; </em></strong>Remember to submit your question or topic in advance!
LOCATION:Maury Alliance Downstairs Conference Room 106 West 6th St Columbia\, TN
UID:e.1832.563331
SEQUENCE:3
DTSTAMP:20260424T205602Z
URL:https://business.mauryalliance.com/events/details/small-business-q-a-with-mayor-molder-and-paul-keltner-of-development-services-563331
END:VEVENT

END:VCALENDAR
