BEGIN:VCALENDAR
VERSION:2.0
PRODID:-//ChamberMaster//Event Calendar 2.0//EN
METHOD:PUBLISH
X-PUBLISHED-TTL:P3D
REFRESH-INTERVAL:P3D
CALSCALE:GREGORIAN
BEGIN:VEVENT
DTSTART:20240202T143000Z
DTEND:20240202T160000Z
X-MICROSOFT-CDO-ALLDAYEVENT:FALSE
SUMMARY:SizeUpMaury | Public Launch
DESCRIPTION:Please join us for the public launch and demo of SizeUpMaury!\n\n\n\nSizeUpMaury is a robust\, interactive business analytics tool designed to support small and medium-sized businesses in a variety of stages\, from the entrepreneur looking to start their first business to a seasoned business owner looking to expand their customer base\, by delivering powerful market research insights.\n\n\n\nMaury County businesses can now access industry-specific and hyperlocal information to help them grow and make smarter decisions using Big Data analysis. The research is individually customized for each company. With SizeUpMaury\, local businesses can:\n\n\n	Get their business performance ranking compared to industry competitors.\n	Discover potential customers\, vendors\, and better understand their competitive landscape.\n	Optimize advertising to target ideal customer segments.\n	Analyze customer and employee characteristics around their business.\n\n\nSizeUpMaury helps to level the competitive business playing field by providing small businesses with similar market research that typically only large corporations can afford.\n\n \n\nMaury Alliance invites you to join us for a live demonstration of SizeUpMaury and learn how you can use this tool to support your business. There will be time at the end for a Q&A.\n\n\n\nWe look forward to you joining us for this valuable demonstration!
X-ALT-DESC;FMTTYPE=text/html:<p><span style="font-family:arial\,sans-serif\;"><span style="font-size:12.0pt\;">Please join us for the public launch and demo of&nbsp\;SizeUpMaury!</span></span><br />\n<br />\n<span style="font-size:16px\;"><span style="font-family:arial\;">SizeUpMaury is a robust\, interactive business analytics tool designed to support small and medium-sized businesses in a variety of stages\, from the entrepreneur looking to start their first business to a seasoned business owner looking to expand their customer base\, by delivering powerful market research insights.<br />\n<br />\nMaury County businesses can now access industry-specific and hyperlocal information to help them grow and make smarter decisions using Big Data analysis. The research is individually customized for each company. With SizeUpMaury\, local businesses can:</span></span></p>\n\n<ul>\n	<li><span style="font-size:16px\;"><span style="font-family:arial\;">Get their business performance ranking compared to industry competitors.</span></span></li>\n	<li><span style="font-size:16px\;"><span style="font-family:arial\;">Discover potential customers\, vendors\, and better understand their competitive landscape.</span></span></li>\n	<li><span style="font-size:16px\;"><span style="font-family:arial\;">Optimize advertising to target ideal customer segments.</span></span></li>\n	<li><span style="font-size:16px\;"><span style="font-family:arial\;">Analyze customer and employee characteristics around their business.</span></span></li>\n</ul>\n\n<p><span style="font-size:16px\;"><span style="font-family:arial\;">SizeUpMaury helps to level the competitive business playing field by providing small businesses with similar market research that typically only large corporations can afford.<br />\n&nbsp\;<br />\nMaury Alliance invites you to join us for a live demonstration of SizeUpMaury and learn how you can use this tool to support your business. There will be time at the end for a Q&amp\;A.<br />\n<br />\nWe look forward to you joining us for this valuable demonstration!</span></span></p>\n
LOCATION:Virtual - Zoom details will be sent to all registered guests
UID:e.1832.564608
SEQUENCE:3
DTSTAMP:20260425T232325Z
URL:https://business.mauryalliance.com/events/details/sizeupmaury-public-launch-564608
END:VEVENT

END:VCALENDAR
