BEGIN:VCALENDAR
VERSION:2.0
PRODID:-//ChamberMaster//Event Calendar 2.0//EN
METHOD:PUBLISH
X-PUBLISHED-TTL:P3D
REFRESH-INTERVAL:P3D
CALSCALE:GREGORIAN
BEGIN:VEVENT
DTSTART:20231209T170000Z
DTEND:20231209T210000Z
X-MICROSOFT-CDO-ALLDAYEVENT:FALSE
SUMMARY:Second Saturdays at The Factory at Columbia
DESCRIPTION:Join us for Second Saturdays at The Factory at Columbia. We have vendors\, music\, food trucks and all of our wonderful shops and eateries are open as well. Free admission. Family friendly event.
X-ALT-DESC;FMTTYPE=text/html:Join us for Second Saturdays at The Factory at Columbia. We have vendors\, music\, food trucks and all of our wonderful shops and eateries are open as well. Free admission. Family friendly event.<br />\n<br />\n&nbsp\;
LOCATION:The Factory at Columbia is located at 101 N. James Campbell Blvd in Columbia.
UID:e.1832.563849
SEQUENCE:3
DTSTAMP:20260425T202950Z
URL:https://business.mauryalliance.com/events/details/second-saturdays-at-the-factory-at-columbia-12-09-2023-563849
END:VEVENT

END:VCALENDAR
