BEGIN:VCALENDAR
VERSION:2.0
PRODID:-//ChamberMaster//Event Calendar 2.0//EN
METHOD:PUBLISH
X-PUBLISHED-TTL:P3D
REFRESH-INTERVAL:P3D
CALSCALE:GREGORIAN
BEGIN:VEVENT
DTSTART:20231001T010000Z
DTEND:20231001T040000Z
X-MICROSOFT-CDO-ALLDAYEVENT:FALSE
SUMMARY:Rubiks Groove
DESCRIPTION:A Mulehouse favorite! Rubiks Groove will be performing all of the iconic hits of the 90's including "No Diggity\," "Time of My Life\," and "My Prerogative!" \n\nAll are welcome to the party ! If you are a part of the  CCHS Class of 1993 celebrating their 30th reunion\, wear your favorite school colors and let's all dance the night away!
X-ALT-DESC;FMTTYPE=text/html:<p>A Mulehouse favorite! Rubiks Groove will be performing all of the iconic hits of the 90&#39\;s including&nbsp\;&quot\;No Diggity\,&quot\; &quot\;Time of My Life\,&quot\; and &quot\;My Prerogative!&quot\;&nbsp\;</p>\n\n<p>All are welcome to the party ! If you are a part of the&nbsp\; CCHS Class of 1993 celebrating their 30th reunion\, wear your favorite school colors and let&#39\;s all dance the night away!&nbsp\;</p>\n
LOCATION:THE MULEHOUSE
UID:e.1832.564082
SEQUENCE:3
DTSTAMP:20260425T172832Z
URL:https://business.mauryalliance.com/events/details/rubiks-groove-564082
END:VEVENT

END:VCALENDAR
