BEGIN:VCALENDAR
VERSION:2.0
PRODID:-//ChamberMaster//Event Calendar 2.0//EN
METHOD:PUBLISH
X-PUBLISHED-TTL:P3D
REFRESH-INTERVAL:P3D
CALSCALE:GREGORIAN
BEGIN:VEVENT
DTSTART:20260409T210000Z
DTEND:20260409T230000Z
X-MICROSOFT-CDO-ALLDAYEVENT:FALSE
SUMMARY:RISE Women Society
DESCRIPTION:Our monthly networking events serve as a cornerstone of our society\, offering a space for women to connect on a deeper level\, forge meaningful relationships\, and create lasting bonds. Through these gatherings\, we seek to build a thriving sisterhood that transcends professional connections\,\n\ntransforming into a lifelong support system.
X-ALT-DESC;FMTTYPE=text/html:Our monthly networking events serve as a cornerstone of our society\, offering a space for women to connect on a deeper level\, forge meaningful relationships\, and create lasting bonds. Through these gatherings\, we seek to build a thriving sisterhood that transcends professional connections\,<br />\ntransforming into a lifelong support system.
LOCATION:Martin's BBQ - Spring Hill
UID:e.1832.565936
SEQUENCE:3
DTSTAMP:20260423T053311Z
URL:https://business.mauryalliance.com/events/details/rise-women-society-04-09-2026-565936
END:VEVENT

END:VCALENDAR
