BEGIN:VCALENDAR
VERSION:2.0
PRODID:-//ChamberMaster//Event Calendar 2.0//EN
METHOD:PUBLISH
X-PUBLISHED-TTL:P3D
REFRESH-INTERVAL:P3D
CALSCALE:GREGORIAN
BEGIN:VEVENT
DTSTART:20240229T200000Z
DTEND:20240229T210000Z
X-MICROSOFT-CDO-ALLDAYEVENT:FALSE
SUMMARY:Ribbon Cutting: Waxing Columbia Co. Holistic Skincare
DESCRIPTION:Join Maury Alliance for a ribbon cutting ceremony celebrating the grand opening of Waxing Columbia Co. Holistic Skincare. \n\n...\n\nWelcome to WC Holistic Skincare\, your premier destination for luxurious full-body waxing and rejuvenating holistic facial skin services. At our boutique\, we offer a serene oasis where clients experience top-notch waxing treatments for silky-smooth skin alongside tailored holistic facials that promote skin health and radiance. Our skilled esthetician Jessica Marie\, utilizes premium non-toxic products and personalized techniques to ensure a pampering experience that combines beauty\, wellness\, and relaxation. Jessica has also had Oncology Esthetics training. Whether you seek flawless hair removal or desire a holistic approach to facial skincare\, WC Holistic skincare is committed to providing a tranquil haven where beauty meets holistic wellness. \n\n \n\nLet's create real\, lasting results without compromise! Let's reveal your beautiful skin!\n\n\n\nNew clients that mention the ribbon cutting during the month of March\, will receive 20% off any service! *Promotion limited to one time per person.
X-ALT-DESC;FMTTYPE=text/html:<span style="font-size:16px\;">Join Maury Alliance for a ribbon cutting ceremony celebrating the grand opening of Waxing Columbia Co. Holistic Skincare.&nbsp\;<br />\n<span style="font-family:arial\;">...</span><br />\n<span style="font-family:arial\;"><span style="color:#374151\;">Welcome to WC Holistic Skincare\, your premier destination for luxurious full-body waxing and rejuvenating holistic facial skin services. At our boutique\, we offer a serene oasis where clients experience top-notch waxing treatments for silky-smooth skin alongside tailored holistic facials that promote skin health and radiance. Our skilled esthetician Jessica Marie\, utilizes premium non-toxic products and personalized techniques to ensure a pampering experience that combines beauty\, wellness\, and relaxation. Jessica has also had Oncology Esthetics training. Whether you seek flawless hair removal or desire a holistic approach to facial skincare\, WC Holistic skincare is committed to providing a tranquil haven where beauty meets holistic wellness. </span><br />\n&nbsp\;<br />\n<span style="color:#374151\;">Let&rsquo\;s create real\, lasting results without compromise! Let&rsquo\;s reveal your beautiful skin!</span><br />\n<br />\nNew clients that mention the ribbon cutting&nbsp\;during the month of March\, will receive 20% off any service! *Promotion limited to one time per person.&nbsp\;</span></span>
LOCATION:101 Bass Drive Columbia\, TN 38401
UID:e.1832.564597
SEQUENCE:3
DTSTAMP:20260426T011421Z
URL:https://business.mauryalliance.com/events/details/ribbon-cutting-waxing-columbia-co-holistic-skincare-564597
END:VEVENT

END:VCALENDAR
