BEGIN:VCALENDAR
VERSION:2.0
PRODID:-//ChamberMaster//Event Calendar 2.0//EN
METHOD:PUBLISH
X-PUBLISHED-TTL:P3D
REFRESH-INTERVAL:P3D
CALSCALE:GREGORIAN
BEGIN:VEVENT
DTSTART:20231013T160000Z
DTEND:20231013T170000Z
X-MICROSOFT-CDO-ALLDAYEVENT:FALSE
SUMMARY:Ribbon Cutting: UMAMI Japanese Steakhouse
DESCRIPTION:Join Maury Alliance for a ribbon cutting ceremony celebrating UMAMI Japanese Steakhouse. \n\n...\n\nUMAMI is inspired by traditional and modern Japanese elements\, creating a cozy and inviting dining atmosphere. UMAMI provides comfortable seating and friendly service to ensure guests have an unforgettable dining experience.\n\n\n\nOur skilled Hibachi chefs will prepare delicious dishes right at your table\, creating a unique visual and culinary experience. From impressive knife skills to captivating flame shows\, our Teppanyaki performance adds an extra layer of excitement to your dining experience. Whether you're celebrating a special occasion or simply enjoying a great time with friends\, let our Teppanyaki performance make your meal truly unforgettable.\n\n ...\n\nGrand Opening Special:\n\nUMAMI will offer 25% off all dishes on Grand Opening Day which is Friday\, October 13th. We will continue the celebration by offering 50% on all dishes October 17-19.
X-ALT-DESC;FMTTYPE=text/html:<span style="font-size:16px\;"><span style="font-family:arial\;">Join Maury Alliance for a ribbon cutting ceremony celebrating UMAMI Japanese Steakhouse.&nbsp\;<br />\n...<br />\nUMAMI is inspired by traditional and modern Japanese elements\, creating a cozy and inviting dining atmosphere. UMAMI provides comfortable seating and friendly service to ensure guests have an unforgettable dining experience.</span></span><br />\n<br />\n<span style="font-size:16px\;"><span style="font-family:arial\;">Our skilled Hibachi chefs will prepare delicious dishes right at your table\, creating a unique visual and culinary experience. From impressive knife skills to captivating flame shows\, our Teppanyaki performance adds an extra layer of excitement to your dining experience. Whether you&#39\;re celebrating a special occasion or simply enjoying a great time with friends\, let our Teppanyaki performance make your meal truly unforgettable.<br />\n&nbsp\;...<br />\n<u><strong>Grand Opening Special</strong></u><strong>:</strong><br />\nUMAMI will offer 25% off all dishes on Grand Opening Day which is Friday\, October 13th. We will continue the celebration by offering 50% on all dishes October 17-19.</span></span>
LOCATION:UMAMI Japanese Steakhouse 815 S. James Campbell\, Columbia\, TN 38401
UID:e.1832.564220
SEQUENCE:3
DTSTAMP:20260425T173241Z
URL:https://business.mauryalliance.com/events/details/ribbon-cutting-umami-japanese-steakhouse-564220
END:VEVENT

END:VCALENDAR
