BEGIN:VCALENDAR
VERSION:2.0
PRODID:-//ChamberMaster//Event Calendar 2.0//EN
METHOD:PUBLISH
X-PUBLISHED-TTL:P3D
REFRESH-INTERVAL:P3D
CALSCALE:GREGORIAN
BEGIN:VEVENT
DTSTART:20240220T200000Z
DTEND:20240220T210000Z
X-MICROSOFT-CDO-ALLDAYEVENT:FALSE
SUMMARY:Virtual Ribbon Cutting: The Way Realty Airbnb
DESCRIPTION:Join Maury Alliance for a virtual ribbon cutting ceremony celebrating the grand opening of a new Airbnb operated by The Way Realty.\n\n...\n\nWithin our team\, we have licensed contractors\, experienced handymen and handywomen\, auctioneers\, professional cleaners\, and marketing professionals.\n\nWe have years of investment experience in residential and commercial properties. We offer home design\, staging\, landscaping\, market analysis\, property evaluations\, home improvements\, home inspections\, evaluations\, and repairs.\n\nWe're also experienced with zoning\, code research\, site evaluations\, and ROI evaluations.\n\nWe value Christian fellowship and community service. We love helping people get the most out of selling or buying a home. Giving you a good deal is more important to us than closing the deal.\n\n\n\nAirbnb: Guest House - Upstairs Only airbnb.com/h/thewayrealtyguesthouse\n\nAirbnb: Bella Vista House - Entire House airbnb.com/h/twrbellavistahouse
X-ALT-DESC;FMTTYPE=text/html:<span style="font-size:16px\;"><span style="font-family:arial\;">Join Maury Alliance for a virtual ribbon cutting ceremony celebrating the grand opening of a new Airbnb operated by The Way Realty.</span></span><br />\n...<br />\n<span style="font-size:16px\;"><span style="font-family:arial\;"><span style="color:#777777\;">Within our team\, we have licensed&nbsp\;<strong><span style="border:none windowtext 1.0pt\;padding:0in\;">contractors</span></strong>\, experienced&nbsp\;<strong><span style="border:none windowtext 1.0pt\;padding:0in\;">handymen</span></strong>&nbsp\;and&nbsp\;<strong><span style="border:none windowtext 1.0pt\;padding:0in\;">handywomen</span></strong>\,&nbsp\;<strong><span style="border:none windowtext 1.0pt\;padding:0in\;">auctioneers</span></strong>\, professional&nbsp\;<strong><span style="border:none windowtext 1.0pt\;padding:0in\;">cleaners</span></strong>\, and&nbsp\;<strong><span style="border:none windowtext 1.0pt\;padding:0in\;">marketing professionals</span></strong>.</span><br />\n<span style="border:none windowtext 1.0pt\;padding:0in\;"><span style="color:#777777\;">We have&nbsp\;<strong>years of investment experience</strong>&nbsp\;in residential and commercial properties. We offer&nbsp\;<strong>home design</strong>\,&nbsp\;<strong>staging</strong>\,&nbsp\;<strong>landscaping</strong>\,&nbsp\;<strong>market analysis</strong>\,&nbsp\;<strong>property evaluations</strong>\,&nbsp\;<strong>home improvements</strong>\,&nbsp\;<strong>home inspections</strong>\,&nbsp\;<strong>evaluations</strong>\, and&nbsp\;<strong>repairs</strong>.</span></span><br />\n<span style="border:none windowtext 1.0pt\;padding:0in\;"><span style="color:#777777\;">We&rsquo\;re also&nbsp\;<strong>experienced with zoning\, code research\, site evaluations\, and ROI evaluations</strong>.</span></span><br />\n<span style="border:none windowtext 1.0pt\;padding:0in\;"><span style="color:#777777\;">We value Christian fellowship and community service.&nbsp\;<strong>We love helping people</strong>&nbsp\;get the most out of selling or buying a home.&nbsp\;</span></span><em style="box-sizing:border-box\;outline:0px\;"><strong><span style="border:none windowtext 1.0pt\;padding:0in\;"><span style="color:#777777\;">Giving you a good deal is more important to us than closing the deal</span></span></strong></em><span style="border:none windowtext 1.0pt\;padding:0in\;"><span style="color:#777777\;">.</span></span><br />\n<br />\nAirbnb: Guest House - Upstairs Only&nbsp\;<a href="http://airbnb.com/h/thewayrealtyguesthouse" target="_blank">airbnb.com/h/thewayrealtyguesthouse</a><br />\nAirbnb: Bella Vista House - Entire House&nbsp\;<a href="http://airbnb.com/h/twrbellavistahouse" target="_blank">airbnb.com/h/twrbellavistahouse</a></span></span>\n<p style="margin-top:0in\;margin-right:0in\;margin-bottom:17.0pt\;margin-left:\n0in\;box-sizing:border-box">&nbsp\;</p>\n
LOCATION:Due to limited parking spaces\, this will be a virtual ribbon cutting. Please tune in via the Maury Alliance Facebook page.
UID:e.1832.564625
SEQUENCE:3
DTSTAMP:20260425T232709Z
URL:https://business.mauryalliance.com/events/details/ribbon-cutting-the-way-realty-airbnb-564625
END:VEVENT

END:VCALENDAR
