BEGIN:VCALENDAR
VERSION:2.0
PRODID:-//ChamberMaster//Event Calendar 2.0//EN
METHOD:PUBLISH
X-PUBLISHED-TTL:P3D
REFRESH-INTERVAL:P3D
CALSCALE:GREGORIAN
BEGIN:VEVENT
DTSTART:20240301T200000Z
DTEND:20240301T210000Z
X-MICROSOFT-CDO-ALLDAYEVENT:FALSE
SUMMARY:Ribbon Cutting: The Shoppes in Trotwood Square
DESCRIPTION:Join Maury Alliance for a ribbon cutting ceremony celebrating the grand opening of The Shoppes in Trotwood Square. \n\n...\n\n\n\nThe Shoppes at Trotwood Square are three small business that have been around Columbia for several years that came together in one space to offer shoppers Western\, Boho & Rustic Boutique Fashion for Women and Children\, Jewelry\, Shoes\, Wood and Western/Rustic Home Decor & More!   \n\n\n\nFollow us on FB & IG: \n\n3 Rustic Souls Boutique\n\nBSquared Boutique 931\n\nMore Than Just Wood
X-ALT-DESC;FMTTYPE=text/html:<div class="xdj266r x11i5rnm xat24cr x1mh8g0r x1vvkbs" style="margin: 0px\; overflow-wrap: break-word\; font-family: &quot\;Segoe UI Historic&quot\;\, &quot\;Segoe UI&quot\;\, Helvetica\, Arial\, sans-serif\; color: rgb(5\, 5\, 5)\; font-size: 15px\;">\n<div class="xdj266r x11i5rnm xat24cr x1mh8g0r x1vvkbs" style="margin: 0px\; overflow-wrap: break-word\; font-family: &quot\;Segoe UI Historic&quot\;\, &quot\;Segoe UI&quot\;\, Helvetica\, Arial\, sans-serif\; color: rgb(5\, 5\, 5)\; font-size: 15px\;">Join Maury Alliance for a ribbon cutting ceremony celebrating the grand opening of The Shoppes in&nbsp\;Trotwood Square.&nbsp\;<br />\n...<br />\n<br />\nThe Shoppes at Trotwood Square are three&nbsp\;small business that have been around Columbia for several years that came together&nbsp\;in one space to offer shoppers Western\, Boho &amp\; Rustic Boutique Fashion for Women and Children\, Jewelry\, Shoes\, Wood and Western/Rustic Home Decor &amp\; More!&nbsp\; &nbsp\;<br />\n<br />\n<em>Follow us on FB &amp\; IG:&nbsp\;</em><br />\n3 Rustic Souls Boutique<br />\nBSquared Boutique 931<br />\nMore Than Just Wood&nbsp\;<br />\n&nbsp\;</div>\n</div>\n
LOCATION:The Shoppes in Trotwood Square 1129 Trotwood Ave\, Suite 1 Columbia\, TN 38401
UID:e.1832.564618
SEQUENCE:3
DTSTAMP:20260426T011420Z
URL:https://business.mauryalliance.com/events/details/ribbon-cutting-the-shoppes-in-trotwood-square-564618
END:VEVENT

END:VCALENDAR
