BEGIN:VCALENDAR
VERSION:2.0
PRODID:-//ChamberMaster//Event Calendar 2.0//EN
METHOD:PUBLISH
X-PUBLISHED-TTL:P3D
REFRESH-INTERVAL:P3D
CALSCALE:GREGORIAN
BEGIN:VEVENT
DTSTART:20231201T200000Z
DTEND:20231201T210000Z
X-MICROSOFT-CDO-ALLDAYEVENT:FALSE
SUMMARY:Ribbon Cutting: Slothful Waffle
DESCRIPTION:Join Maury Alliance for a ribbon cutting ceremony celebrating Slothful Waffle's first brick & mortar in the Factory at Columbia! \n\n...\n\nSlothful Waffle serves artisanal Tennessee buttermilk Belgian waffles with handmade sauces and other premium toppings. Aside from waffles\, you can also purchase Slothy shakes - our crazy made shakes...the slothful way! There is also a section of the shop dedicated to my wife's crafty creations - plushies by Blu Shadow Creations. \n\n\n\nWe will have gift card giveaways as well. We are excited to celebrate our first brick & mortar with the community!
X-ALT-DESC;FMTTYPE=text/html:<span style="font-size:16px\;"><span style="font-family:arial\;">Join Maury Alliance for a ribbon cutting ceremony celebrating Slothful Waffle&#39\;s first brick &amp\; mortar in the Factory at Columbia!&nbsp\;<br />\n...<br />\nSlothful Waffle serves artisanal Tennessee buttermilk Belgian waffles with handmade sauces and other premium toppings. Aside from waffles\, you can also purchase Slothy shakes - our crazy made shakes...the slothful way! There is also a section of the shop dedicated to my wife&#39\;s crafty creations - plushies by Blu Shadow Creations.&nbsp\;</span><br />\n<br />\nWe will have gift card giveaways as well. We are excited to celebrate our first brick &amp\; mortar with the community!&nbsp\;</span>
LOCATION:The Factory at Columbia 101 N. James Campbell\, Columbia\, TN 38401
UID:e.1832.564517
SEQUENCE:3
DTSTAMP:20260425T202636Z
URL:https://business.mauryalliance.com/events/details/ribbon-cutting-slothful-waffle-564517
END:VEVENT

END:VCALENDAR
