BEGIN:VCALENDAR
VERSION:2.0
PRODID:-//ChamberMaster//Event Calendar 2.0//EN
METHOD:PUBLISH
X-PUBLISHED-TTL:P3D
REFRESH-INTERVAL:P3D
CALSCALE:GREGORIAN
BEGIN:VEVENT
DTSTART:20230914T150000Z
DTEND:20230914T160000Z
X-MICROSOFT-CDO-ALLDAYEVENT:FALSE
SUMMARY:Ribbon Cutting: SAFE Clinic at Center of Hope
DESCRIPTION:Join us for a ribbon cutting ceremony celebrating the grand opening of Center of Hope's SAFE Clinic (Sexual Assault Forensic Exam Clinic) in Maury County.\n\n\n\nThis clinic will focus on serving Maury\, Giles\, Lawrence and Wayne Counties and will be available to anyone age 16 and up who has experienced rape or sexual assault in the last 120 hours.  If the victim would like a rape kit\, our trained SANE nurses will collect the evidence for the kit and our advocates will be available with resources/help.  We are partnering with a local medical office as well as Maury Regional Medical Center.  \n\n \n\nWhat is a SANE?\n\nA Sexual Assault Nurse Examiner is an RN who has been specifically trained to:\n\n  Provide comprehensive care to sexual assault patients\;\n\n  Demonstrate competency in conducting a medical forensic exam to include evaluation for evidence collection\;\n\n  Have the expertise to provide effective courtroom testimony\; and\n\n  Show compassion and sensitivity to survivors of sexual assault.
X-ALT-DESC;FMTTYPE=text/html:<div style="text-align: center\;">\n<div style="text-align: left\;"><span style="font-family: arial\; font-size: 16px\;">Join us for a ribbon cutting ceremony celebrating the grand opening of Center of Hope&#39\;s&nbsp\;SAFE Clinic (Sexual Assault Forensic Exam Clinic) in Maury County.<br />\n<br />\nThis clinic will focus on serving Maury\, Giles\, Lawrence and Wayne Counties and will be</span><span style="font-size:16px\;"><span style="font-family:arial\;">&nbsp\;available to anyone age 16 and up who has experienced rape or sexual assault in the last 120 hours.&nbsp\; If the victim would like a rape kit\, our trained SANE nurses will collect the evidence for the kit and our advocates will be available with resources/help.&nbsp\; We are partnering with a local medical office as well as Maury Regional Medical Center.&nbsp\;&nbsp\;</span></span></div>\n\n<div style="text-align: left\;">&nbsp\;</div>\n\n<div style="text-align: left\;"><span style="font-size:16px\;"><span style="font-family:arial\;">What is a SANE?</span></span></div>\n\n<div style="text-align: left\;"><span style="font-size:16px\;"><span style="font-family:arial\;">A Sexual Assault Nurse Examiner is an RN who has been specifically trained to:</span></span></div>\n\n<div style="text-align: left\;"><span style="font-size:16px\;"><span style="font-family:arial\;">&bull\;<span style="white-space:pre"> </span>Provide comprehensive care to sexual assault patients\;</span></span></div>\n\n<div style="text-align: left\;"><span style="font-size:16px\;"><span style="font-family:arial\;">&bull\;<span style="white-space:pre"> </span>Demonstrate competency in conducting a medical forensic exam to include evaluation for evidence collection\;</span></span></div>\n\n<div style="text-align: left\;"><span style="font-size:16px\;"><span style="font-family:arial\;">&bull\;<span style="white-space:pre"> </span>Have the expertise to provide effective courtroom testimony\; and</span></span></div>\n\n<div style="text-align: left\;"><span style="font-size:16px\;"><span style="font-family:arial\;">&bull\;<span style="white-space:pre"> </span>Show compassion and sensitivity to survivors of sexual assault.</span></span></div>\n</div>\n
LOCATION:Center of Hope 110 E 7th Street\, Columbia\, TN Click the link below for directions
UID:e.1832.564101
SEQUENCE:3
DTSTAMP:20260425T174107Z
URL:https://business.mauryalliance.com/events/details/ribbon-cutting-safe-clinic-at-center-of-hope-564101
END:VEVENT

END:VCALENDAR
