BEGIN:VCALENDAR
VERSION:2.0
PRODID:-//ChamberMaster//Event Calendar 2.0//EN
METHOD:PUBLISH
X-PUBLISHED-TTL:P3D
REFRESH-INTERVAL:P3D
CALSCALE:GREGORIAN
BEGIN:VEVENT
DTSTART:20231128T160000Z
DTEND:20231128T170000Z
X-MICROSOFT-CDO-ALLDAYEVENT:FALSE
SUMMARY:Ribbon Cutting: Rolling Hills Community Church
DESCRIPTION:Join Maury Alliance for a ribbon cutting ceremony celebrating Rolling Hills Community Church. \n\n...\n\nRolling Hills Community Church exists to bring glory to God by reaching people for Christ and nurturing them in the faith through inspired worship\, genuine community\, and passionate ministry that transforms lives in our neighborhoods and throughout the world.\n\n\n\nOur Columbia campus was planted here two years ago and began holding worship services at Riverside Elementary School. We are so blessed to call this beautiful community home. We are for family\, kids\, marriages\, and every stage of life - we are for Columbia.\n\n\n\nWe would love for you to join us on Sunday\, December 3\, 2023\, at 10am\, as we open the doors to our new permanent home at 6111 Cayce Lane.
X-ALT-DESC;FMTTYPE=text/html:<span style="font-size:16px\;"><span style="font-family:arial\;">Join Maury Alliance for a ribbon cutting ceremony celebrating Rolling Hills Community Church.&nbsp\;<br />\n...</span><br />\nRolling Hills Community Church exists to bring glory to God by reaching people for Christ and nurturing them in the faith through inspired worship\, genuine community\, and passionate ministry that transforms lives in our neighborhoods and throughout the world.<br />\n<br />\nOur Columbia campus was planted here two years ago and began holding worship services at Riverside Elementary School. We are so blessed to call this beautiful community home. We are for family\, kids\, marriages\, and every stage of life - we are for Columbia.<br />\n<br />\nWe would love for you to join us on Sunday\, December 3\, 2023\, at 10am\, as we open the doors to our new permanent home at 6111 Cayce Lane.</span><br />\n<br />\n&nbsp\;
LOCATION:Rolling Hills Community Church 6111 Cayce Lane\, Columbia\, TN 38401
UID:e.1832.564488
SEQUENCE:3
DTSTAMP:20260425T202859Z
URL:https://business.mauryalliance.com/events/details/ribbon-cutting-rolling-hills-community-church-564488
END:VEVENT

END:VCALENDAR
