BEGIN:VCALENDAR
VERSION:2.0
PRODID:-//ChamberMaster//Event Calendar 2.0//EN
METHOD:PUBLISH
X-PUBLISHED-TTL:P3D
REFRESH-INTERVAL:P3D
CALSCALE:GREGORIAN
BEGIN:VEVENT
DTSTART:20240124T200000Z
DTEND:20240124T210000Z
X-MICROSOFT-CDO-ALLDAYEVENT:FALSE
SUMMARY:Ribbon Cutting: Revive My Skin
DESCRIPTION:Join Maury Alliance for a ribbon cutting ceremony celebrating Revive My Skin. \n\n...\n\nRevive is Columbia's newest day spa. Experience the highest standard of aesthetic rejuvenation with a full-service menu to meet all of your skincare and wellness goals.\n\n\n\nRevive's service providers are highly educated and are skilled in comprehensive treatments to meet your specific needs.\n\n\n\nHere at REVIVE we value an in-depth approach and are devoted to empowering clients to live a preventative and revitalizing lifestyle.\n\n\n\nWe would love to welcome you by providing BOGO 1/2 off on all services through February 10!
X-ALT-DESC;FMTTYPE=text/html:<span style="font-size:16px\;"><span style="font-family:arial\;">Join Maury Alliance for a ribbon cutting ceremony celebrating Revive My Skin.&nbsp\;<br />\n...<br />\nRevive is Columbia&rsquo\;s newest day spa. Experience the highest standard of aesthetic rejuvenation with a full-service menu to meet all of your skincare and wellness goals.<br />\n<br />\nRevive&rsquo\;s service providers are highly educated and are skilled in comprehensive treatments to meet your specific needs.<br />\n<br />\nHere at REVIVE we value an in-depth approach and are devoted to empowering clients to live a preventative and revitalizing lifestyle.</span></span><br />\n<br />\n<span style="font-size:16px\;">We would love to welcome you by providing BOGO 1/2 off on all services through February 10!</span>
LOCATION:1129 Trotwood Ave. Suite 12 Columbia\, TN 38401
UID:e.1832.564564
SEQUENCE:3
DTSTAMP:20260425T220236Z
URL:https://business.mauryalliance.com/events/details/ribbon-cutting-revive-my-skin-564564
END:VEVENT

END:VCALENDAR
