BEGIN:VCALENDAR
VERSION:2.0
PRODID:-//ChamberMaster//Event Calendar 2.0//EN
METHOD:PUBLISH
X-PUBLISHED-TTL:P3D
REFRESH-INTERVAL:P3D
CALSCALE:GREGORIAN
BEGIN:VEVENT
DTSTART:20240104T193000Z
DTEND:20240104T203000Z
X-MICROSOFT-CDO-ALLDAYEVENT:FALSE
SUMMARY:Ribbon Cutting: Ready to Roll Ventures
DESCRIPTION:Join Maury Alliance & the Spring Hill Chamber for a ribbon cutting ceremony celebrating the grand opening of Ready to Roll Ventures.\n\n...\n\nReady to Roll Ventures offers executive furnished STR townhouses in the Spring Hill/Columbia area.
X-ALT-DESC;FMTTYPE=text/html:<span style="font-size:16px\;"><span style="font-family:arial\;">Join Maury Alliance &amp\; the Spring Hill Chamber for a ribbon cutting ceremony celebrating the grand opening of Ready to Roll Ventures.<br />\n...</span><br />\n<font color="#000000" face="k2d\, sans-serif">Ready to Roll Ventures offers executive furnished STR townhouses in the Spring Hill/Columbia area.&nbsp\;</font></span>
LOCATION:2400 Arden Village Drive Townhouses Units J-K-L Columbia\, TN 38401
UID:e.1832.564598
SEQUENCE:3
DTSTAMP:20260425T214900Z
URL:https://business.mauryalliance.com/events/details/ribbon-cutting-ready-to-roll-ventures-564598
END:VEVENT

END:VCALENDAR
