BEGIN:VCALENDAR
VERSION:2.0
PRODID:-//ChamberMaster//Event Calendar 2.0//EN
METHOD:PUBLISH
X-PUBLISHED-TTL:P3D
REFRESH-INTERVAL:P3D
CALSCALE:GREGORIAN
BEGIN:VEVENT
DTSTART:20240111T200000Z
DTEND:20240111T210000Z
X-MICROSOFT-CDO-ALLDAYEVENT:FALSE
SUMMARY:Ribbon Cutting: Ransom Spirits & Provisions
DESCRIPTION:Join Maury Alliance for a ribbon cutting ceremony celebrating Ransom Spirits & Provisions! \n\n...\n\nWelcome to Ransom Spirits & Provisions. RSP has swung open our doors to downtown Columbia and it has been good\, really good! We have assembled an exceptional team with decades of hospitality and bartending experience and it has been evident! Ransom has become Columbia's go-to social hotspot for great eats\, sensational cocktails\, and an all-around Good\, Good Time! \n\n\n\nThank you for your generous support of RSP and we look forward to growing together!
X-ALT-DESC;FMTTYPE=text/html:<div><span style="font-size:16px\;"><span style="font-family:arial\;">Join Maury Alliance for a ribbon cutting ceremony celebrating Ransom Spirits &amp\; Provisions!&nbsp\;</span></span></div>\n\n<div><span style="font-size:16px\;"><span style="font-family:arial\;">...<br>\nWelcome to Ransom Spirits &amp\; Provisions. RSP has swung open our doors to downtown Columbia and it has been good\, really good! We have assembled an exceptional team with decades of hospitality and bartending experience and it has been evident! Ransom has become Columbia's go-to social hotspot for great eats\, sensational cocktails\, and an all-around Good\, Good Time!&nbsp\;<br>\n<br>\nThank you for your generous support of RSP and we look forward to growing together!&nbsp\;</span></span><br>\n&nbsp\;</div>\n
LOCATION:Ransom Spirits & Provisions 807A S Garden St. Columbia\, TN 38401
UID:e.1832.564596
SEQUENCE:3
DTSTAMP:20260425T232642Z
URL:https://business.mauryalliance.com/events/details/ribbon-cutting-ransom-spirits-provisions-564596
END:VEVENT

END:VCALENDAR
