BEGIN:VCALENDAR
VERSION:2.0
PRODID:-//ChamberMaster//Event Calendar 2.0//EN
METHOD:PUBLISH
X-PUBLISHED-TTL:P3D
REFRESH-INTERVAL:P3D
CALSCALE:GREGORIAN
BEGIN:VEVENT
DTSTART:20240208T200000Z
DTEND:20240208T210000Z
X-MICROSOFT-CDO-ALLDAYEVENT:FALSE
SUMMARY:Ribbon Cutting: Ollie & Finns and Bad Idea Brewing
DESCRIPTION:Join Maury Alliance for a ribbon cutting ceremony celebrating the grand opening of Ollie & Finn's and Bad Idea Brewing's new location!\n\n...\n\nOllie and Finn's is a scratch-kitchen that offers delicious\, and artistically crafted sandwiches\, soups and salads.\n\n\n\nBad Idea offers an ever changing list of craft beers that are all brewed in house by award winning brewmaster Zac Fox. By teaming up we have created Columbia's first brewpub experience.  \n\n\n\nOllie and Finn's: https://www.ollieandfinns.com/\n\nBad Idea Brewing: https://www.badideabrewing.com/
X-ALT-DESC;FMTTYPE=text/html:<div class="xdj266r x11i5rnm xat24cr x1mh8g0r x1vvkbs" style="margin: 0px\; overflow-wrap: break-word\; font-family: &quot\;Segoe UI Historic&quot\;\, &quot\;Segoe UI&quot\;\, Helvetica\, Arial\, sans-serif\; color: rgb(5\, 5\, 5)\; font-size: 15px\;">\n<div class="xdj266r x11i5rnm xat24cr x1mh8g0r x1vvkbs" style="margin: 0px\; overflow-wrap: break-word\; font-family: &quot\;Segoe UI Historic&quot\;\, &quot\;Segoe UI&quot\;\, Helvetica\, Arial\, sans-serif\; color: rgb(5\, 5\, 5)\; font-size: 15px\;"><span style="font-size:16px\;"><span style="font-family:arial\;">Join Maury Alliance for a ribbon cutting ceremony celebrating the grand opening of Ollie &amp\; Finn&#39\;s and Bad Idea Brewing&#39\;s new location!<br />\n...<br />\nOllie and Finn&#39\;s is a scratch-kitchen that offers delicious\, and artistically crafted sandwiches\, soups and salads.<br />\n<br />\nBad Idea offers an ever changing list of craft beers that are all brewed in house by award winning brewmaster Zac Fox. By teaming up we have created Columbia&#39\;s first brewpub experience.&nbsp\;&nbsp\;<br />\n<br />\nOllie and Finn&#39\;s:&nbsp\;<a href="https://www.ollieandfinns.com/" target="_blank">https://www.ollieandfinns.com/</a><br />\nBad Idea Brewing:&nbsp\;<a href="https://www.badideabrewing.com/" target="_blank">https://www.badideabrewing.com/</a></span></span><br />\n&nbsp\;</div>\n</div>\n
LOCATION:510 N Garden Street Suite H Columbia\, TN 38401
UID:e.1832.564606
SEQUENCE:3
DTSTAMP:20260425T232848Z
URL:https://business.mauryalliance.com/events/details/ribbon-cutting-ollie-finns-and-bad-idea-brewing-564606
END:VEVENT

END:VCALENDAR
