BEGIN:VCALENDAR
VERSION:2.0
PRODID:-//ChamberMaster//Event Calendar 2.0//EN
METHOD:PUBLISH
X-PUBLISHED-TTL:P3D
REFRESH-INTERVAL:P3D
CALSCALE:GREGORIAN
BEGIN:VEVENT
DTSTART:20230915T160000Z
DTEND:20230915T170000Z
X-MICROSOFT-CDO-ALLDAYEVENT:FALSE
SUMMARY:Ribbon Cutting: Nashville Tea Co.
DESCRIPTION:Join Maury Alliance for a ribbon cutting ceremony celebrating Nashville Tea Co.'s recent expansion and tea garden! \n\n....\n\nNashville Tea Co is Columbia's hometown modern tea bar and cafe. Established online in 2018 by celebrity vocal coach and producer Diane Sheets\, Nashville Tea Co embodies old world sophistication wrapped in Southern charm. The cafe opened its doors in late 2019 at the Factory at Columbia to serve hot and iced teas\, bubble tea\, house made pastries\, quiche\, sandwiches\, soup\, and Afternoon Tea events to the local community. With their 2023 expansion\, you can now enjoy private parties and workshops in their beautiful indoor tea garden. Choose loose leaf tea and steeping accessories   including matcha\, gift sets\, and more   from the curated collection in their brand new Tea Pantry retail space.
X-ALT-DESC;FMTTYPE=text/html:<span style="font-size:16px\;"><span style="font-family:arial\;">Join Maury Alliance for a ribbon cutting ceremony celebrating Nashville Tea Co.&#39\;s recent expansion and tea garden!&nbsp\;</span></span><br />\n....<br />\n<span style="font-size:16px\;"><span style="font-family:arial\;">Nashville Tea Co is Columbia&rsquo\;s hometown modern tea bar and cafe. Established online in 2018 by celebrity vocal coach and producer Diane Sheets\, Nashville Tea Co embodies old world sophistication wrapped in Southern charm. The cafe opened its doors in late 2019 at the Factory at Columbia to serve hot and iced teas\, bubble tea\, house made pastries\, quiche\, sandwiches\, soup\, and Afternoon Tea events to the local community. With their 2023 expansion\, you can now enjoy private parties and workshops in their beautiful indoor tea garden. Choose loose leaf tea and steeping accessories &mdash\; including matcha\, gift sets\, and more &mdash\; from the curated collection in their brand new Tea Pantry retail space.&nbsp\;</span></span><br />\n<br />\n<br />\n<br />\n&nbsp\;
LOCATION:101 N James Campbell Blvd.\, Columbia\, TN Click the link below for directions
UID:e.1832.564158
SEQUENCE:3
DTSTAMP:20260425T173119Z
URL:https://business.mauryalliance.com/events/details/ribbon-cutting-nashville-tea-co-564158
END:VEVENT

END:VCALENDAR
