BEGIN:VCALENDAR
VERSION:2.0
PRODID:-//ChamberMaster//Event Calendar 2.0//EN
METHOD:PUBLISH
X-PUBLISHED-TTL:P3D
REFRESH-INTERVAL:P3D
CALSCALE:GREGORIAN
BEGIN:VEVENT
DTSTART:20231103T160000Z
DTEND:20231103T170000Z
X-MICROSOFT-CDO-ALLDAYEVENT:FALSE
SUMMARY:Ribbon Cutting: Muletown Pottery in the Factory
DESCRIPTION:Join Maury Alliance for a ribbon cutting ceremony celebrating Muletown Pottery in the Factory. \n\n...\n\nWe are a paint your own pottery studio. We have an abundance of bisque to choose from. You choose your piece and paint it in studio. Once finished painting then we keep it for a week so we can glaze and fire your piece so it comes out shiny and vibrant.
X-ALT-DESC;FMTTYPE=text/html:<span style="font-size:16px\;"><span style="font-family:arial\;">Join Maury Alliance for a ribbon cutting ceremony celebrating Muletown Pottery in the Factory.&nbsp\;<br />\n...</span><br />\n<span style="color:black\;">We are a paint your own pottery studio. We have an abundance of bisque to choose from. You choose your piece and paint it in studio. Once finished painting then we keep it for a week so we can glaze and fire your piece so it comes out shiny and vibrant.&nbsp\;</span></span>
LOCATION:Muletown Pottery in the Factory 101 N. James Campbell\, Columbia\, TN 38401
UID:e.1832.564224
SEQUENCE:3
DTSTAMP:20260425T190031Z
URL:https://business.mauryalliance.com/events/details/ribbon-cutting-muletown-pottery-in-the-factory-564224
END:VEVENT

END:VCALENDAR
