BEGIN:VCALENDAR
VERSION:2.0
PRODID:-//ChamberMaster//Event Calendar 2.0//EN
METHOD:PUBLISH
X-PUBLISHED-TTL:P3D
REFRESH-INTERVAL:P3D
CALSCALE:GREGORIAN
BEGIN:VEVENT
DTSTART:20231212T200000Z
DTEND:20231212T210000Z
X-MICROSOFT-CDO-ALLDAYEVENT:FALSE
SUMMARY:Ribbon Cutting: Mr. Electric of Columbia
DESCRIPTION:Join Maury Alliance for a ribbon cutting ceremony celebrating Mr. Electric of Columbia. \n\n...\n\nMr. Electric provides residential and light industrial electrical service and installation. Several of our services include lighting\, fixture installation\, EV car charger installation\, panel upgrades\, surge protection\, dedicated circuits\, troubleshooting\, and free home safety checks.\n\n\n\nWe service the Columbia\, Spring Hill\, Thompson's Station\, and College Grove areas.
X-ALT-DESC;FMTTYPE=text/html:<span style="font-size:16px\;"><span style="font-family:arial\;">Join Maury Alliance for a ribbon cutting ceremony celebrating Mr. Electric of Columbia.&nbsp\;<br />\n...</span></span><br />\n<span style="color:black\;"><span style="font-family:aptos\,sans-serif\;"><span style="font-size:12.0pt\;">Mr. Electric provides residential and light industrial electrical service and installation. Several of our services include lighting\, fixture installation\, EV car charger installation\, panel upgrades\, surge protection\, dedicated circuits\, troubleshooting\, and free home safety checks.<br />\n<br />\nWe service the Columbia\, Spring Hill\, Thompson&#39\;s Station\, and College Grove areas.</span></span></span><br />\n<br />\n&nbsp\;
LOCATION:Maury County Chamber & Economic Alliance 106 West 6th Street\, Columbia\, TN 38401
UID:e.1832.564501
SEQUENCE:3
DTSTAMP:20260425T203013Z
URL:https://business.mauryalliance.com/events/details/ribbon-cutting-mr-electric-of-columbia-564501
END:VEVENT

END:VCALENDAR
