BEGIN:VCALENDAR
VERSION:2.0
PRODID:-//ChamberMaster//Event Calendar 2.0//EN
METHOD:PUBLISH
X-PUBLISHED-TTL:P3D
REFRESH-INTERVAL:P3D
CALSCALE:GREGORIAN
BEGIN:VEVENT
DTSTART:20240222T160000Z
DTEND:20240222T170000Z
X-MICROSOFT-CDO-ALLDAYEVENT:FALSE
SUMMARY:Ribbon Cutting: Mobile Table Technology
DESCRIPTION:Join Maury Alliance for a ribbon cutting ceremony celebrating Mobile Table Technology and their flagship mobile app for coffee mobile orders\, Mobilerista. \n\n...\nAt Mobile Table Tech\, we're passionate about supporting local economies and fostering community connections. Our flagship creation\, Mobilerista\, embodies this ethos. Designed with local coffee shops in mind\, Mobilerista is more than just a mobile ordering app\; it's a community enabler\, helping these beloved businesses thrive in a digital-first world.\n\n\n\nMobilerista offers a seamless\, intuitive interface for customers\, making it easier than ever to explore and order from their favorite local coffee shops. Our technology empowers shop owners with efficient order management\, sales tracking\, and customer engagement tools\, all streamlined into one user-friendly platform.\n\n\n\nWe understand the unique challenges and opportunities local businesses face. That's why Mobilerista is crafted to enhance the customer experience while providing tangible support to shop owners. Our vision extends beyond mere transactions\; we aim to build a stronger\, more connected community where local businesses flourish alongside their patrons.\n\n\n\nWe are committed to innovating solutions like Mobilerista that nurture the local business ecosystem. We believe in the power of technology to bring people together and sustain the vibrant tapestry of our local coffee scene. Join us in supporting the heart and soul of our community   the local coffee shops that bring us together\, one cup at a time.
X-ALT-DESC;FMTTYPE=text/html:<span style="font-size:16px\;"><span style="font-family:arial\;">Join Maury Alliance for a ribbon cutting ceremony celebrating Mobile Table Technology and their flagship mobile app for coffee mobile orders\, Mobilerista.&nbsp\;<br />\n...</span></span>\n<div style="margin-top:0in\;margin-bottom:0in\;"><span style="font-family:arial\;"><span style="font-size:16px\;">At Mobile Table Tech\, we&#39\;re passionate about supporting local economies and fostering community connections. Our flagship creation\, Mobilerista\, embodies this ethos. Designed with local coffee shops in mind\, Mobilerista is more than just a mobile ordering app\; it&#39\;s a community enabler\, helping these beloved businesses thrive in a digital-first world.<br />\n<br />\nMobilerista offers a seamless\, intuitive interface for customers\, making it easier than ever to explore and order from their favorite local coffee shops. Our technology empowers shop owners with efficient order management\, sales tracking\, and customer engagement tools\, all streamlined into one user-friendly platform.<br />\n<br />\nWe understand the unique challenges and opportunities local businesses face. That&#39\;s why Mobilerista is crafted to enhance the customer experience while providing tangible support to shop owners. Our vision extends beyond mere transactions\; we aim to build a stronger\, more connected community where local businesses flourish alongside their patrons.<br />\n<br />\nWe are committed to innovating solutions like Mobilerista that nurture the local business ecosystem. We believe in the power of technology to bring people together and sustain the vibrant tapestry of our local coffee scene. Join us in supporting the heart and soul of our community &ndash\; the local coffee shops that bring us together\, one cup at a time.</span></span></div>\n
LOCATION:Maury County Chamber & Economic Alliance 106 West 6th Street Columbia\, TN 38401
UID:e.1832.564504
SEQUENCE:3
DTSTAMP:20260426T010722Z
URL:https://business.mauryalliance.com/events/details/ribbon-cutting-mobile-table-technology-564504
END:VEVENT

END:VCALENDAR
