BEGIN:VCALENDAR
VERSION:2.0
PRODID:-//ChamberMaster//Event Calendar 2.0//EN
METHOD:PUBLISH
X-PUBLISHED-TTL:P3D
REFRESH-INTERVAL:P3D
CALSCALE:GREGORIAN
BEGIN:VEVENT
DTSTART:20231016T163000Z
DTEND:20231016T173000Z
X-MICROSOFT-CDO-ALLDAYEVENT:FALSE
SUMMARY:Ribbon Cutting: Miracle League of Columbia
DESCRIPTION:Join Maury Alliance for a ribbon cutting ceremony celebrating the Miracle League of Columbia at Maury County Park. \n\n...\n\nThe Miracle League of Columbia at Maury County Park was formed in 2021 by a group of Columbia natives who had a dream of bringing a Miracle League program and all-inclusive playground to their old stomping grounds in Columbia. All the pieces are in place to make this project happen and now we just need you! Check us out and connect with us on how you can be involved.  \n\n ...\n\nMeet Taye:\n\nTaye Ramer is the light of my family's life. He brings so much joy to every day and is the most loving kid you will ever meet. Taye was adopted in 2011 from Ethiopia and shortly after returning to the U.S.\, they learned he had a rare brain disorder. Taye has defied all the odds placed against him and achieved successes that statistics and doctors didn't think he may meet. \n\n \n\nHe has overcome many physical barriers and continues to overcome mental barriers. He is now ten years old and has dreams like every other kid  his age\, including being part of a team and achieving goals. \n\n \n\nBecause of organizations like the Miracle League\, Taye is able to play on a team and have a coach just like his big brother. After seeing his games at the Miracle League of Murfreesboro\, it became my mission to bring one of these closer to home for Taye and kids like him. Inclusion matters\, and it is my goal to make sure these kids are seen and heard through programs such as this. I hope you will join me on this mission. Together\, we can make a difference for these kids.  Robin Hewgley Estep
X-ALT-DESC;FMTTYPE=text/html:<span style="font-size:16px\;"><span style="font-family:arial\;">Join Maury Alliance for a ribbon cutting ceremony celebrating the Miracle League of Columbia at Maury County Park.&nbsp\;<br />\n...<br />\n<span style="border:none windowtext 1.0pt\;padding:0in\;"><span style="color:black\;">The Miracle League of Columbia at Maury County Park was formed in 2021 by a group of Columbia natives who had a dream of bringing a Miracle League program and all-inclusive playground to their old stomping grounds in Columbia. All the pieces are in place to make this project happen and now we just need you! Check us out and connect with us on how you can be involved. &nbsp\;</span></span><br />\n&nbsp\;...<br />\n<u><strong>Meet Taye</strong></u><strong>:</strong><br />\n<span style="border:none windowtext 1.0pt\;padding:0in\;"><span style="color:#474747\;">Taye Ramer is the light of my family&#39\;s life. He brings so much joy to every day and is the most loving kid you will ever meet. Taye was adopted in 2011 from Ethiopia and shortly after returning to the U.S.\, they learned he had a rare brain disorder. Taye has defied all the odds placed against him and achieved successes that statistics and doctors didn&#39\;t think he may meet.&nbsp\;</span></span><br />\n<span style="border:none windowtext 1.0pt\;padding:0in\;"><span style="color:#474747\;">&#8203\;</span></span><br />\n<span style="border:none windowtext 1.0pt\;padding:0in\;"><span style="color:#474747\;">He has overcome many physical barriers and continues to overcome mental barriers. He is now ten years old and has dreams like every other kid &nbsp\;his age\, including being part of a team and achieving goals.&nbsp\;</span></span><br />\n&nbsp\;<br />\n<span style="border:none windowtext 1.0pt\;padding:0in\;"><span style="color:#474747\;">Because of organizations like the Miracle League\, Taye is able to play on a team and have a coach just like his big brother. After seeing his games at the Miracle League of Murfreesboro\, it became my mission to bring one of these closer to home for Taye and kids like him. Inclusion matters\, and it is my goal to make sure these kids are seen and heard through programs such as this. I hope you will join me on this mission. Together\, we can make a difference for these kids.&nbsp\;</span></span><span style="border:none windowtext 1.0pt\;padding:0in\;"><span style="color:#474747\;">&mdash\;Robin Hewgley Estep&nbsp\;</span></span></span></span><br />\n<br />\n&nbsp\;
LOCATION:Maury County Park 1018 Maury County Park Dr\, Columbia\, TN 38401 At the old Babe Ruth Park across from Kids Kingdom.
UID:e.1832.564194
SEQUENCE:3
DTSTAMP:20260425T173246Z
URL:https://business.mauryalliance.com/events/details/ribbon-cutting-miracle-league-of-columbia-564194
END:VEVENT

END:VCALENDAR
