BEGIN:VCALENDAR
VERSION:2.0
PRODID:-//ChamberMaster//Event Calendar 2.0//EN
METHOD:PUBLISH
X-PUBLISHED-TTL:P3D
REFRESH-INTERVAL:P3D
CALSCALE:GREGORIAN
BEGIN:VEVENT
DTSTART:20231027T180000Z
DTEND:20231027T190000Z
X-MICROSOFT-CDO-ALLDAYEVENT:FALSE
SUMMARY:Ribbon Cutting: Maury Regional Medical Group OB-GYN
DESCRIPTION:Join Maury Alliance for a ribbon cutting ceremony celebrating Maury Regional Medical Group OB-GYN. \n\n...\n\nMaury Regional Medical Group OB-GYN has moved to a new floor and welcomes the community to join us for a ribbon cutting on Friday\, October 27\, at 1 p.m. Meet our eight providers and tour the spacious and modern new facility that encompasses the entire fourth floor of the Maury Regional Health Medical Office Building in Columbia. From childbearing to post-menopause\, Maury Regional Medical Group OB-GYN provides personalized care for the unique needs of each woman. Please join us to learn more about our facility and what we have to offer.
X-ALT-DESC;FMTTYPE=text/html:<span style="font-size:16px\;"><span style="font-family:arial\;">Join Maury Alliance for a ribbon cutting ceremony celebrating Maury Regional Medical Group OB-GYN.&nbsp\;<br />\n...<br />\nMaury Regional Medical Group OB-GYN has moved to a new floor and welcomes the community to join us for a ribbon cutting on Friday\, October 27\, at 1 p.m. Meet our eight providers and tour the spacious and modern new facility that encompasses the entire fourth floor of the Maury Regional Health Medical Office Building in Columbia. From childbearing to post-menopause\, Maury Regional Medical Group OB-GYN provides personalized care for the unique needs of each woman. Please join us to learn more about our facility and what we have to offer.</span></span>
LOCATION:Maury Regional Medical Group OB-GYN 1222 Trotwood Avenue\, Columbia\, TN
UID:e.1832.564222
SEQUENCE:3
DTSTAMP:20260425T173138Z
URL:https://business.mauryalliance.com/events/details/ribbon-cutting-maury-regional-medical-group-ob-gyn-564222
END:VEVENT

END:VCALENDAR
