BEGIN:VCALENDAR
VERSION:2.0
PRODID:-//ChamberMaster//Event Calendar 2.0//EN
METHOD:PUBLISH
X-PUBLISHED-TTL:P3D
REFRESH-INTERVAL:P3D
CALSCALE:GREGORIAN
BEGIN:VEVENT
DTSTART:20231026T203000Z
DTEND:20231026T213000Z
X-MICROSOFT-CDO-ALLDAYEVENT:FALSE
SUMMARY:Ribbon Cutting: Maury County Regional Airport and TN Flight Training
DESCRIPTION:Join us as we celebrate the grand reopening of Maury County Airport!! After months of dedicated efforts and a complete runway overhaul\, the airport is back in action and Tennessee Flight Training has resumed flight training. The airport now boasts a newly resurfaced runway and state-of-the-art lighting\, all thanks to the remarkable teamwork that made it possible. The airport is also a base for Vanderbilt LifeFlight 4. Guests can tour the updated facilities\, meet the staff\, and enjoy a delectable meal and refreshments. \n\n...\n\nMaury County Airport:\n\nMaury County Airport is a county-owned public-use airport located on 188 acres with two runways. \n\n\n\nTN Flight Training:\n\nAs a nationally recognized flight school\, Tennessee  Flight Training provides the highest quality\, FAA-certified flight and ground instruction so that customers are fully equipped to use their flight training skills for pleasure\, business\, and career objectives.\n\n\n\nVanderbilt LifeFlight:\n\nVanderbilt LifeFlight is a comprehensive emergency medical services provider with 8 bases covering all of Middle TN\, Parts of West TN\, East TN\, and Southern Kentucky. Vanderbilt LifeFlight's air operations are provided by Air Methods Corporation. All medical staffing\, patient care and clinical services are provided by Vanderbilt University Medical Center.
X-ALT-DESC;FMTTYPE=text/html:<span style="font-family:arial\;"><span style="font-size:16px\;">Join us as we celebrate the grand reopening of Maury County Airport!! After months of dedicated efforts and a complete runway overhaul\, the airport is back in action and Tennessee Flight Training has resumed flight training. The airport now boasts a newly resurfaced runway and state-of-the-art lighting\, all thanks to the remarkable teamwork that made it possible. The airport is also a base for Vanderbilt LifeFlight 4.&nbsp\;Guests can tour the updated facilities\, meet the staff\, and enjoy a delectable meal and refreshments.&nbsp\;<br />\n...</span></span><br />\n<span style="font-size:16px\;"><span style="font-family:arial\;"><u>Maury County Airport:</u><br />\nMaury County Airport is a county-owned public-use airport located on 188 acres with two runways.&nbsp\;<br />\n<br />\n<u>TN Flight Training:</u><br />\nAs a nationally recognized flight school\, Tennessee&nbsp\; Flight Training provides the highest quality\, FAA-certified flight and ground instruction so that customers are fully equipped to use their flight training skills for pleasure\, business\, and career objectives.</span></span><br />\n<br />\n<span style="font-size:16px\;"><span style="font-family:arial\;"><u>Vanderbilt LifeFlight:</u><br />\nVanderbilt LifeFlight is a comprehensive emergency medical services provider with 8 bases covering all of Middle TN\, Parts of West TN\, East TN\, and Southern Kentucky. Vanderbilt LifeFlight&#39\;s air operations are provided by Air Methods Corporation. All medical staffing\, patient care and clinical services are provided by Vanderbilt University Medical Center.</span></span>
LOCATION:Maury County Regional Airport 1200 N Main Street\, Mt. Pleasant\, TN
UID:e.1832.564195
SEQUENCE:3
DTSTAMP:20260425T173247Z
URL:https://business.mauryalliance.com/events/details/ribbon-cutting-maury-county-regional-airport-and-tn-flight-training-564195
END:VEVENT

END:VCALENDAR
