BEGIN:VCALENDAR
VERSION:2.0
PRODID:-//ChamberMaster//Event Calendar 2.0//EN
METHOD:PUBLISH
X-PUBLISHED-TTL:P3D
REFRESH-INTERVAL:P3D
CALSCALE:GREGORIAN
BEGIN:VEVENT
DTSTART:20231109T200000Z
DTEND:20231109T210000Z
X-MICROSOFT-CDO-ALLDAYEVENT:FALSE
SUMMARY:Ribbon Cutting: Lighthouse Kids
DESCRIPTION:Join Maury Alliance for a ribbon cutting ceremony celebrating Lighthouse Kids. \n\n...\n\nLighthouse Kids Centers for Autism is an Applied Behavioral Analysis Center.  Our teams are dedicated to serving children ages 2-12\, on the autism spectrum\, including Spanish-Bilingual learners. Our mission is empowering learners on the autism spectrum to acquire functional skills leading to autonomy\, independence\, and inclusion to create and live their BEST lives.\n\n\n\nWe are the first center-based ABA company in the area\, and this is the 4th location of 6 planned Tennessee ABA centers.  We have a total enrollment of 150+ children across middle and east Tennessee currently.  We are thrilled to be in Columbia to serve this gorgeous\, historic and dynamic community!
X-ALT-DESC;FMTTYPE=text/html:<span style="font-size:16px\;"><span style="font-family:arial\;">Join Maury Alliance for a ribbon cutting ceremony celebrating Lighthouse Kids.&nbsp\;<br />\n...</span></span><br />\n<span style="color:black\;"><span style="font-family:aptos\,sans-serif\;"><span style="font-size:12.0pt\;">Lighthouse Kids Centers for Autism is an Applied Behavioral Analysis Center.&nbsp\; Our teams are dedicated to serving children ages 2-12\, on the autism spectrum\, including Spanish-Bilingual learners. Our mission is empowering learners on the autism spectrum to acquire functional skills leading to autonomy\, independence\, and inclusion to create and live their BEST lives.</span></span></span><br />\n<br />\n<span style="color:black\;"><span style="font-family:aptos\,sans-serif\;"><span style="font-size:12.0pt\;">We are the first center-based ABA company in the area\, and this is the 4<sup>th</sup>&nbsp\;location of 6 planned Tennessee ABA centers.&nbsp\; We have a total enrollment of 150+ children across middle and east Tennessee currently.&nbsp\; We are thrilled to be in Columbia to serve this gorgeous\, historic and dynamic&nbsp\;community!</span></span></span><br />\n<br />\n<br />\n&nbsp\;
LOCATION:Lighthouse Kids 1040 N. James Campbell Blvd. Suite 108\, Columbia 38401
UID:e.1832.564491
SEQUENCE:3
DTSTAMP:20260425T202645Z
URL:https://business.mauryalliance.com/events/details/ribbon-cutting-lighthouse-kids-564491
END:VEVENT

END:VCALENDAR
