BEGIN:VCALENDAR
VERSION:2.0
PRODID:-//ChamberMaster//Event Calendar 2.0//EN
METHOD:PUBLISH
X-PUBLISHED-TTL:P3D
REFRESH-INTERVAL:P3D
CALSCALE:GREGORIAN
BEGIN:VEVENT
DTSTART:20231115T200000Z
DTEND:20231115T210000Z
X-MICROSOFT-CDO-ALLDAYEVENT:FALSE
SUMMARY:Ribbon Cutting: Graphix Garage
DESCRIPTION:Join Maury Alliance for a ribbon cutting ceremony celebrating Graphix Garage. \n\n...\n\nGraphix Garage is a family-owned and operated vinyl shop that offers an extensive variety of services. We do full and partial vehicle wraps\, decals\, storefront advertising\, business decals for walls and flooring\, fleet graphics\, box truck wraps\, food truck wraps\, designing for brands and advertising and so much more!\n\n\n\nWe take immense pride in providing exceptional customer service to all of our clients. Our dedicated team of experts is committed to delivering top-notch results that exceed customer expectations. We believe in building lasting relationships with our customers and their trust and satisfaction are our utmost priorities.\n\n\n\nWe look forward to getting to meeting you - reach out or come see us in person at our location right down from Motor Alley!
X-ALT-DESC;FMTTYPE=text/html:<span style="font-size:16px\;"><span style="font-family:arial\;">Join Maury Alliance for a ribbon cutting ceremony celebrating Graphix Garage.&nbsp\;<br />\n...</span><br />\nGraphix Garage is a family-owned and operated vinyl shop that offers an extensive variety of services. We do full and partial vehicle wraps\, decals\, storefront advertising\, business decals for walls and flooring\, fleet graphics\, box truck wraps\, food truck wraps\, designing for brands and advertising and so much more!<br />\n<br />\nWe take immense pride in providing exceptional customer service to all of our clients. Our dedicated team of experts is committed to delivering top-notch results that exceed customer expectations. We believe in building lasting relationships with our customers and their trust and satisfaction are our utmost priorities.<br />\n<br />\nWe look forward to getting to meeting you - reach out or come see us in person at our location right down from Motor Alley!</span>
LOCATION:Graphix Garage 111 E 9th Street\, Columbia\, TN 38401
UID:e.1832.564355
SEQUENCE:3
DTSTAMP:20260425T185554Z
URL:https://business.mauryalliance.com/events/details/ribbon-cutting-graphix-garage-564355
END:VEVENT

END:VCALENDAR
