BEGIN:VCALENDAR
VERSION:2.0
PRODID:-//ChamberMaster//Event Calendar 2.0//EN
METHOD:PUBLISH
X-PUBLISHED-TTL:P3D
REFRESH-INTERVAL:P3D
CALSCALE:GREGORIAN
BEGIN:VEVENT
DTSTART:20230927T210000Z
DTEND:20230927T220000Z
X-MICROSOFT-CDO-ALLDAYEVENT:FALSE
SUMMARY:Ribbon Cutting: Gentiva Hospice
DESCRIPTION:Join Maury Alliance and Gentiva Hospice for a ribbon cutting ceremony celebrating the grand opening of their new office!\n\n...\n\n\n\nGentiva Hospice has been serving Maury County\, and surrounding counties\, for many years. We are excited to open our new office in Columbia where we can really dig in and be part of this wonderful community. \n\n\n\nWe are looking forward to making an impact in the lives of those who need our service\, where our staff make a difference in the lives of our patients and families each and every day. \n\n\n\nPlease join our team for our Open House and Ribbon Cutting on September 27th from 3pm-7pm where you can enjoy a burger or hotdog fresh off the grill\, or some delicious BBQ!!!
X-ALT-DESC;FMTTYPE=text/html:<span style="font-size:16px\;"><span style="font-family:arial\;">Join Maury Alliance and </span></span><span style="font-family: arial\; font-size: 16px\;">Gentiva Hospice&nbsp\;</span><span style="font-size:16px\;"><span style="font-family:arial\;">for a ribbon cutting ceremony celebrating the grand opening of their new office!<br />\n...<br />\n<br />\nGentiva Hospice has been serving Maury County\, and surrounding counties\, for many years. We are excited to open our new office in Columbia where we can really dig in and be part of this wonderful community.&nbsp\;<br />\n<br />\nWe are looking forward to making an impact in the lives of those who need our service\, where our staff make a difference in the lives of our patients and families each and every day.&nbsp\;<br />\n<br />\nPlease join our team for our Open House and Ribbon Cutting on September 27th from 3pm-7pm where you can enjoy a burger or hotdog fresh off the grill\, or some delicious BBQ!!!&nbsp\;</span></span>
LOCATION:830 Hatcher Lane\, Columbia\, TN Click the link below for directions
UID:e.1832.564164
SEQUENCE:3
DTSTAMP:20260425T173702Z
URL:https://business.mauryalliance.com/events/details/ribbon-cutting-gentiva-hospice-564164
END:VEVENT

END:VCALENDAR
