BEGIN:VCALENDAR
VERSION:2.0
PRODID:-//ChamberMaster//Event Calendar 2.0//EN
METHOD:PUBLISH
X-PUBLISHED-TTL:P3D
REFRESH-INTERVAL:P3D
CALSCALE:GREGORIAN
BEGIN:VEVENT
DTSTART:20240328T210000Z
DTEND:20240328T220000Z
X-MICROSOFT-CDO-ALLDAYEVENT:FALSE
SUMMARY:Ribbon Cutting: Gather Kitchen Mercantile & Woven
DESCRIPTION:Join Maury Alliance for joint ribbon cutting celebrations for Gather Kitchen Mercantile in its new location on the square and Woven's one year anniversary.\n\n\n\nIn addition to the ribbon cutting ceremonies\, Gather and Woven\, along with Smith & York Co.\, will host a Spring open house until 7:00 pm and will offer some surprise discounts and door prizes.\n\n\n\nEach separate entities\, Smith & York Co.\, Gather\, and Woven make up a unique consortium of retail shops that offer patrons a multi-faceted shopping experience within just a few steps from each other\, including home decor and gift registry\, kitchen and tabletop goods\, and women's and men's apparel and accessories.\n\n...\n\nGather Kitchen Mercantile \n\nAt Gather Kitchen Mercantile\, you'll find the things you need to gather with family and friends - whether around your table or kitchen island\, including kitchen and dining essentials\, including high-quality kitchen knives\, cookware\, pantry goods\, small appliances\, and tabletop basics and accessories.\n\n\n\nwww.gatherkitchenmercantile.com\n\n@gatherkitchenmercantile \n\n\n\nWoven\n\nWoven is the only exclusive women's clothing boutique on the downtown square in Columbia\, providing the everyday wardrobe in an array of neutral and muted color tones and styles to build outfits in every season.\n\n\n\nwww.wearwoven.co\n\n@wearwoventn
X-ALT-DESC;FMTTYPE=text/html:<span style="font-size:16px\;"><span style="font-family:arial\;">Join Maury Alliance for joint ribbon cutting celebrations for Gather Kitchen Mercantile in its new location on the square and Woven&#39\;s one year anniversary.<br />\n<br />\nIn addition to the ribbon cutting ceremonies\, Gather and Woven\, along with Smith &amp\; York Co.\, will host a Spring open house until 7:00 pm and will offer some surprise discounts and door prizes.<br />\n<br />\nEach separate entities\, Smith &amp\; York Co.\, Gather\, and Woven make up a unique consortium of retail shops that offer patrons a multi-faceted shopping experience within just a few steps from each other\, including home decor and gift registry\, kitchen and tabletop goods\, and women&#39\;s and men&#39\;s apparel and accessories.<br />\n...</span></span><br />\n<span style="font-size:16px\;"><span style="font-family:arial\;"><em>Gather Kitchen Mercantile&nbsp\;</em><br />\nAt Gather Kitchen Mercantile\, you&#39\;ll find the things you need to gather with family and friends - whether around your table or kitchen island\, including&nbsp\;kitchen and dining essentials\, including high-quality kitchen knives\, cookware\, pantry goods\, small appliances\, and tabletop basics and accessories.</span></span><br />\n<br />\n<span style="font-size:18px\;"><span style="font-family:calibri\,sans-serif\;">www.gatherkitchenmercantile.com<br />\n@gatherkitchenmercantile&nbsp\;</span></span><br />\n<br />\n<span style="font-size:16px\;"><span style="font-family:arial\;"><em>Woven</em><br />\nWoven is the only exclusive women&#39\;s clothing boutique on the downtown square in Columbia\, providing&nbsp\;the everyday wardrobe in an array of neutral and muted color tones and styles to build outfits&nbsp\;in every season.</span></span><br />\n<br />\n<span style="font-size:18px\;"><span style="font-family:calibri\,sans-serif\;">www.wearwoven.co<br />\n@wearwoventn&nbsp\;</span></span><br />\n<br />\n<br />\n&nbsp\;\n<p class="xxcontentpasted1" style="margin-bottom:17.0pt\;background:white\;\nbox-sizing:border-box"><span style="font-size:13.5pt\;font-family:&quot\;myriad-pro&quot\;\,serif\;\ncolor:#002554"><o:p></o:p></span></p>\n
LOCATION:Gather Kitchen Mercantile 23 Public Square\, Columbia\, TN 38401 Woven 28 Public Square\, Columbia\, TN 38401
UID:e.1832.564621
SEQUENCE:3
DTSTAMP:20260426T024652Z
URL:https://business.mauryalliance.com/events/details/ribbon-cutting-gather-kitchen-mercantile-woven-564621
END:VEVENT

END:VCALENDAR
